BEGIN:VCALENDAR
VERSION:2.0
PRODID:-//Visit Dublin Georgia - ECPv6.15.20//NONSGML v1.0//EN
CALSCALE:GREGORIAN
METHOD:PUBLISH
X-WR-CALNAME:Visit Dublin Georgia
X-ORIGINAL-URL:https://visitdublinga.org
X-WR-CALDESC:Events for Visit Dublin Georgia
REFRESH-INTERVAL;VALUE=DURATION:PT1H
X-Robots-Tag:noindex
X-PUBLISHED-TTL:PT1H
BEGIN:VTIMEZONE
TZID:America/New_York
BEGIN:DAYLIGHT
TZOFFSETFROM:-0500
TZOFFSETTO:-0400
TZNAME:EDT
DTSTART:20230312T070000
END:DAYLIGHT
BEGIN:STANDARD
TZOFFSETFROM:-0400
TZOFFSETTO:-0500
TZNAME:EST
DTSTART:20231105T060000
END:STANDARD
BEGIN:DAYLIGHT
TZOFFSETFROM:-0500
TZOFFSETTO:-0400
TZNAME:EDT
DTSTART:20240310T070000
END:DAYLIGHT
BEGIN:STANDARD
TZOFFSETFROM:-0400
TZOFFSETTO:-0500
TZNAME:EST
DTSTART:20241103T060000
END:STANDARD
BEGIN:DAYLIGHT
TZOFFSETFROM:-0500
TZOFFSETTO:-0400
TZNAME:EDT
DTSTART:20250309T070000
END:DAYLIGHT
BEGIN:STANDARD
TZOFFSETFROM:-0400
TZOFFSETTO:-0500
TZNAME:EST
DTSTART:20251102T060000
END:STANDARD
BEGIN:DAYLIGHT
TZOFFSETFROM:-0500
TZOFFSETTO:-0400
TZNAME:EDT
DTSTART:20260308T070000
END:DAYLIGHT
BEGIN:STANDARD
TZOFFSETFROM:-0400
TZOFFSETTO:-0500
TZNAME:EST
DTSTART:20261101T060000
END:STANDARD
BEGIN:DAYLIGHT
TZOFFSETFROM:-0500
TZOFFSETTO:-0400
TZNAME:EDT
DTSTART:20270314T070000
END:DAYLIGHT
BEGIN:STANDARD
TZOFFSETFROM:-0400
TZOFFSETTO:-0500
TZNAME:EST
DTSTART:20271107T060000
END:STANDARD
END:VTIMEZONE
BEGIN:VEVENT
DTSTART;TZID=America/New_York:20240921T183000
DTEND;TZID=America/New_York:20240921T203000
DTSTAMP:20260421T230602
CREATED:20240930T144312Z
LAST-MODIFIED:20240930T185204Z
UID:10008360-1726943400-1726950600@visitdublinga.org
SUMMARY:Greek Revival Dinner at the Page House
DESCRIPTION:Gather toga-ther with your friends\, family\, and taste buds to yell “Opa!” during the Greek Revival Dinner at Page House Bed and Breakfast on Saturday\, September 21st at 6:30 PM. Titillate the senses with mouthwatering courses in an impeccable setting that deserves a “Nóstimo!” \nMenu\nWith traditional Greek dishes that’ll have you saying “Efchristó!” to Chef Mono Cruz\, Greek Revival Dinner at the Page House Bed and Breakfast makes for the perfect evening outing in Dublin GA. Your meal includes: appetizer\, salad\, choice of entree & dessert. \nMenu\nGREEK MEZZE\nSpanakopita\nSpinach\, feta\, cream cheese\, and fresh herbs in crispy phyllo dough baked until golden brown. \nGREEK SALAD\nTender greens mixed with tomatoes\, red onion\, cucumber\, olives\, feta cheese & olive oil. \nCHOICE OF ENTREE\n(Choice of One)\nChicken Souvlaki\nSeasoned chicken tenderloins marinated in lemon juice\, garlic & fresh herbs\, roasted & served with a side of Greek potatoes. \nBeef Souvlaki\nSeasoned beef tenderloins marinated in lemon juice\, garlic\, & fresh herbs\, seared to medium & served with a side of Greek potatoes. \nPsari Plaki\nOlive oil\, leeks\, garlic\, diced tomatoes & fresh herbs sautéed and arranged over white fish & baked in the oven. Served with a side of Greek potatoes. \nDESSERT\nBaklava\nSweet dessert pastry with layers of phyllo dough filled with chopped pistachio & honey. \nIncludes: Hot Tea\, Coffee\, Sweet and Unsweet Tea\, Water \nCome dressed in a toga and receive a FREE glass of wine! \n*Cocktails and select wines available* \nReservations are required and your choice of entree is needed at the time of reservation. Call to reserve a table for Greek Revival Dinner: 478-275-4551 \nStay\nThe night doesn’t have to end after the last course\, book one of their luxury suites or impeccably appointed rooms with a private bath. The Page House Bed and Breakfast now offers seven rooms to delight you! Book your experience online by visiting Reservations. \nPage House\nStep back to 1903 when TL Griner began construction Page House\, an 11-room\, 7\,000 sq. ft. Classic Greek Revival home often described as one of the grandest homes south of Atlanta. The House featured Tiffany-style stained-glass windows\, the only private home in this area of the state with a ballroom\, 12-foot ceilings\, interior Ionic columns\, and picture moldings sealed with silver then brushed with gold\, and much more.
URL:https://visitdublinga.org/event/page-house-dinners/
LOCATION:Page House Bed and Breakfast\, 711 Bellevue Avenue\, Dublin\, GA\, 31021\, United States
CATEGORIES:Date Night,Family-friendly,feast,Food,Summer
ATTACH;FMTTYPE=image/jpeg:https://visitdublinga.org/wp-content/uploads/2024/02/VisitDublinPageHouseJan18-19.jpeg
GEO:32.5378335;-82.9157771
X-APPLE-STRUCTURED-LOCATION;VALUE=URI;X-ADDRESS=Page House Bed and Breakfast 711 Bellevue Avenue Dublin GA 31021 United States;X-APPLE-RADIUS=500;X-TITLE=711 Bellevue Avenue:geo:-82.9157771,32.5378335
END:VEVENT
BEGIN:VEVENT
DTSTART;TZID=America/New_York:20240926T170000
DTEND;TZID=America/New_York:20240926T190000
DTSTAMP:20260421T230602
CREATED:20240930T094545Z
LAST-MODIFIED:20240930T185021Z
UID:10008395-1727370000-1727377200@visitdublinga.org
SUMMARY:Paint & Sip at the Page House
DESCRIPTION:Explore your artistic side and create your very own beautiful floral or landscape piece during Paint & Sip at the Page House Bed and Breakfast. Novices as well as experienced artists enjoy a colorful evening full of painting\, gabbing\, snacking\, and sipping! \nHappy Little Trees\nChannel your inner Bob Ross during Paint & Sip at the Page House Bed and Breakfast\, where there are no mistakes\, just happy accidents. Learn “The Joy of Painting” from Certified Bob Ross Instructor and artist Alexander Sandor Iliuta while you make merry with locals\, friends\, or a date in one of Bellevue Avenue’s beautiful historic sites! No skill is necessary\, so just bring enthusiasm and extra money for drinks. \nPaint & Sip Dates \nAll classes are held on Thursday night at 5 PM. \n\nJuly 25th\, 2024\nAugust 22nd\, 2024\nSeptember 26th\, 2024\n\nDetails \nPaint & Sip Parties are $65 per person and include all necessary supplies. Reserve your spot for Paint & Sip at the Page House by calling Alex at 203-305-9128 or JoAnn at 478-275-4551 at least a week in advance. Cash at the door is the preferred form of payment. Wine and cocktails are available for purchase. \nAlexander Sandor Iliuta\nBorn in Romania\, Alexander Sandor Iliuta has been creating art since early in his high school career. He has been a Certified Bob Ross Instructor (CRI) since 1995 and became a Certified Ross Floral Instructor (CRFI) in 2022. Using techniques seen on the television program “The Joy of Painting” hosted by Bob Ross\, Mr. Iliuta specializes in oils and acrylic to create various landscape and floral paintings. His works have been included in exhibitions in Connecticut\, Maryland\, and Georgia and displayed in Downtown Dublin GA. \nPage House Bed & Breakfast\nStep back to 1903 when TL Griner began construction Page House\, an 11-room\, 7\,000 sq. ft. Classic Greek Revival home often described as one of the grandest homes south of Atlanta. The house featured Tiffany-style stained-glass windows\, and is the only private home in this area of the state with a ballroom\, 12-foot ceilings\, interior Ionic columns\, and picture moldings sealed with silver then brushed with gold. \npc: Alexander Sandor Iliuta
URL:https://visitdublinga.org/event/paint-and-sip-at-the-page-house/2024-09-26/
LOCATION:Page House Bed and Breakfast\, 711 Bellevue Avenue\, Dublin\, GA\, 31021\, United States
CATEGORIES:Arts and Culture,Date Night,Family-friendly
ATTACH;FMTTYPE=image/png:https://visitdublinga.org/wp-content/uploads/2024/04/Screenshot-2024-07-01-at-10.21.50-AM.png
GEO:32.5378335;-82.9157771
X-APPLE-STRUCTURED-LOCATION;VALUE=URI;X-ADDRESS=Page House Bed and Breakfast 711 Bellevue Avenue Dublin GA 31021 United States;X-APPLE-RADIUS=500;X-TITLE=711 Bellevue Avenue:geo:-82.9157771,32.5378335
END:VEVENT
BEGIN:VEVENT
DTSTART;TZID=America/New_York:20250214T170000
DTEND;TZID=America/New_York:20250214T210000
DTSTAMP:20260421T230603
CREATED:20250114T134335Z
LAST-MODIFIED:20250211T211804Z
UID:10008361-1739552400-1739566800@visitdublinga.org
SUMMARY:Hearts & Clubs at Riverview Golf Course
DESCRIPTION:Swing for the heart with an intimate evening on the green during Hearts & Clubs at Riverview Golf Course on Friday\, February 14th. \nHearts & Clubs\nCreate an un-fore-gettable Valentine’s Day date for you and your sweetheart at Riverview Golf Course in Dublin GA. Cruise through the course on a candlelit cart ride and play through 9 courses of sweetheart putt-putt. Drive over to Emery Thomas Auditorium to dine on a specially curated self-serve menu\, bust a move on the dance floor\, and commemorate the evening with a prom style portrait at the photo booth. Come dressed in your Sunday Best (or Business Casual) and bring your own putters if you have them! \nDinner Menu\n\nCaesar Salad\nA Pasta Bar – Build a Plate with your choice of: Penne Pasta or Spaghetti; Marinara or Alfredo; Italian Meatballs\, Seasoned Ground Beef or Chicken Breast; Mozzarella or 5-Italian Cheese; Garlic Bread or Yeast Roll\nTiramisu or Italian Crème Cake\nDrinks: Sweet Tea\, Unsweet Tea\, Lemonade\, or Water\n\nDinner is served at the time listed on your ticket. Plan your putt-putt play accordingly. \nDinner occurs Rain or Shine on February 14th\, but don’t worry about swingin’ in the rain! If weather becomes an issue\, the candlelit golf cart cruise and putt-putt will be rescheduled for Saturday\, February 15th at the original ticketed time. \nReservations\nEntry for two is $150 and includes candlelit golf cart cruise\, 9-course sweetheart putt-putt\, and dinner. Dinner times may be scheduled between 5 PM and 9 PM. Drink tickets can be purchased throughout the night at the Pro-Shop. \nTickets are cash or check ONLY. To purchase tickets and reserve your dinner time\, call (478)279-3961 or email Renia Cook at cookr@dublinga.org. \nMake checks out to City of Dublin with the memo Hearts & Clubs Tickets.\nMail to:\nP.O. Box 690\nDublin\, GA 31040 \nRiverview Golf Course\nBordering the Oconee River\, Riverview Park Golf Course in Dublin GA is an 18-hole public golf course located minutes off 1-16 at exit 54. Opened in 1977\, Riverview features 6\,161 yards of golf on lush Bermuda with a par of 72 with pro shop\, cart and club rentals\, and lessons. \nRiverview Golf Course is also the site of The Emery Thomas Auditorium\, which was built in 1956 as an addition to the Dublin 4-H Center for African American youth and now serves as a special events center.
URL:https://visitdublinga.org/event/hearts-clubs-at-riverview-golf-course/
LOCATION:Riverview Golf Course\, 300 Riverview Dr\, Dublin\, GA\, 31021\, United States
CATEGORIES:Date Night,Entertainment,Food,Holiday,Outdoor
ATTACH;FMTTYPE=image/jpeg:https://visitdublinga.org/wp-content/uploads/2024/01/IMG_9764-scaled.jpg
GEO:32.5173858;-82.9007577
X-APPLE-STRUCTURED-LOCATION;VALUE=URI;X-ADDRESS=Riverview Golf Course 300 Riverview Dr Dublin GA 31021 United States;X-APPLE-RADIUS=500;X-TITLE=300 Riverview Dr:geo:-82.9007577,32.5173858
END:VEVENT
BEGIN:VEVENT
DTSTART;TZID=America/New_York:20250228T190000
DTEND;TZID=America/New_York:20250228T230000
DTSTAMP:20260421T230603
CREATED:20241211T134254Z
LAST-MODIFIED:20241211T151043Z
UID:10004437-1740769200-1740783600@visitdublinga.org
SUMMARY:Gene Watson at Theatre Dublin
DESCRIPTION:Experience “The Singer’s Singer” live at Theatre Dublin\, when country great Gene Watson takes the stage with his band in An Evening with Gene Watson presented by East Tennessee Concerts on Friday\, February 28th. \nAn Evening with Gene Watson\nWhether you’re a long-time country music fan or new to the genre\, An Evening with Gene Watson is a can’t-miss experience. Starting at 7 PM on February 28th\, witness “The Singer’s Singer” deliver his greatest hits like “Farewell Party” and “Love in the Hot afternoon.” For tickets\, click HERE. \nThe Singer’s Story\nThis masterful country stylist from Houston\, Texas has been thrilling audiences for more than 60 years. Gene’s very first radio single\, the self-penned “If It’s That Easy” was released in 1962. Gene Watson’s tally of 75 charted titles\, 23 top-10 hits and 6 number-one records has led to his membership in the Texas Country Music Hall of Fame. Considered one of the finest pure-country singers of his generation\, Watson offers up one of the best traditional country shows in the business. His stunning voice captivates audiences and keeps his fans coming back again and again.  \nAt an age when most people are contemplating retirement\, Gene Watson is still making some of the greatest records of his life\, receiving such accolades as Album of the Year and even Album of the Decade from journalists around the world. Watson earned the title of 2010 Country Music Legend of the Year\, from Citadel Media’s Real Country Radio Network nationwide fan vote. \nTheatre Dublin\nBuilt in 1934 and renovated in 1996\, Theatre Dublin serves as a performing arts center for Dublin‐Laurens County and surrounding areas. Theatre Dublin can accommodate over 600 people and has state‐of‐the‐art sound and lighting equipment. The theatre is owned by the City of Dublin and managed by the Dublin Downtown Development Authority. It is used primarily for live productions with special showings of movies throughout the year as well. \nFor questions about ticketing and the latest shows\, please contact 478-272-2560 or email info@dtdublin.com. \nPhoto Credit: Gene Watson via Facebook
URL:https://visitdublinga.org/event/gene-watson-theatre-dublin/
LOCATION:Theatre Dublin\, 314 Academy Avenue\, Dublin\, GA\, United States
CATEGORIES:Arts and Culture,Date Night,Entertainment,Family-friendly,Music
ATTACH;FMTTYPE=image/png:https://visitdublinga.org/wp-content/uploads/2022/01/Screenshot-2024-12-11-at-9.38.24-AM.png
GEO:32.5382957;-82.9078839
X-APPLE-STRUCTURED-LOCATION;VALUE=URI;X-ADDRESS=Theatre Dublin 314 Academy Avenue Dublin GA United States;X-APPLE-RADIUS=500;X-TITLE=314 Academy Avenue:geo:-82.9078839,32.5382957
END:VEVENT
BEGIN:VEVENT
DTSTART;TZID=America/New_York:20251011T190000
DTEND;TZID=America/New_York:20251011T210000
DTSTAMP:20260421T230603
CREATED:20250807T144948Z
LAST-MODIFIED:20250923T180043Z
UID:10018759-1760209200-1760216400@visitdublinga.org
SUMMARY:Dublin Main Street Players
DESCRIPTION:Prepare for an evening full of hilarity\, good food\, and heartwarming family moments during the Dublin Main Street Players’ production of Over the River and Through the Woods on October 9th\, 10th\, and 11th! \nScene\nOver the River and Through the Woods\, written by Joe DiPietro\, is the classic story of deciding to leave home for the first time and the consequences\, good and bad\, of what follow. \nNick is a single\, Italian-American guy from New Jersey. His parents retired and moved to Florida. That doesn’t mean his family isn’t still in Jersey. In fact\, he sees both sets of his grandparents every Sunday for dinner. This is routine until he has to tell them that he’s been offered a dream job. The job he’s been waiting for—marketing executive—would take him away from his beloved\, but annoying\, grandparents. He tells them. The news doesn’t sit so well. Thus begins a series of schemes to keep Nick around. How could he betray his family’s love to move to Seattle\, for a job\, wonder his grandparents? Well\, Frank\, Aida\, Nunzio and Emma do their level best\, and that includes bringing to dinner the lovely—and single—Caitlin O’Hare as bait…we won’t give the ending away here. \nCast of Characters\nNick Cristano – A guy in his late 2os looking for a fresh start. \nFrank Gianelli – Nick’s maternal grandfather\, an 80 year old immigrant from Italy. \nAida Gianelli – Nick’s maternal grandmother\, a woman in her 70s whose love language is caring for others\, especially through food. \nNunzio Cristano – Nick’s paternal grandfather\, in his 70s\, quite the charmer. \nEmma Cristano – Nick’s paternal grandmother\, a sweet schemer in her 70s that just wants the best for her grandson. \nCaitlin O’Hare – A charming woman in her later 20s. \nTickets\nShows will be held at Theatre Dublin. \nTickets are $15 and can be purchased at the Dublin Visitors Center\, Colleen’s China and Emerald City Treasures. \nDublin Main Street Players\nDublin Main Street Players is a local amateur theatre group which has been active for two decades\, delivering high energy shows such as Steel Magnolias Mysteries\, comedic skits from the Carol Burnett Show and lauded dinner theatre performances. \nPhoto Credit: Courier Herald via Facebook
URL:https://visitdublinga.org/event/dublin-main-street-players/2025-10-11/
LOCATION:Theatre Dublin\, 314 Academy Avenue\, Dublin\, GA\, United States
CATEGORIES:Arts and Culture,Date Night,Entertainment,Fall,Family-friendly,Food
ATTACH;FMTTYPE=image/png:https://visitdublinga.org/wp-content/uploads/2024/04/Screenshot-2024-10-25-at-3.01.31-PM.png
ORGANIZER;CN="Dublin Main Street Players":MAILTO:dublinmainstreetplayers@gmail.com
GEO:32.5382957;-82.9078839
X-APPLE-STRUCTURED-LOCATION;VALUE=URI;X-ADDRESS=Theatre Dublin 314 Academy Avenue Dublin GA United States;X-APPLE-RADIUS=500;X-TITLE=314 Academy Avenue:geo:-82.9078839,32.5382957
END:VEVENT
BEGIN:VEVENT
DTSTART;TZID=America/New_York:20260205T173000
DTEND;TZID=America/New_York:20260205T190000
DTSTAMP:20260421T230603
CREATED:20251114T124038Z
LAST-MODIFIED:20260202T134343Z
UID:10009543-1770312600-1770318000@visitdublinga.org
SUMMARY:Dublin Carnegie Events
DESCRIPTION:Join The Friends of the Carnegie for an assortment of interesting\, elegant\, and delightful Dublin Carnegie events throughout the year. \nDublin Carnegie Events\nStep into the elegant ambiance of the Dublin Carnegie\, where history meets generosity. \n2026\nThe Life and Times of Hub Dudley with Carl Pearson & Wallace Miller\nThursday\, February 5th at 5:30 PM\nTickets: $15 at the door \nDiscover the life of and history made by one of Dublin’s first Black entrepreneurs from his grandson\, Carl Pearson\, and Wallace Miller\, a well-known local who served alongside Dudley through various civic and community duties. \nDon’t miss this opportunity to make a difference while enjoying a variety of occasions\, camaraderie\, and good will. Secure your tickets now and be a part of history in the making. For ticketing information\, contact Downtown Dublin at 478-272-2560 or info@dtdublin.com. \nYour presence and participation directly contribute to the ongoing restoration and enrichment of this cherished landmark. Every ticket sold\, every glass raised\, contributes to ensuring the Dublin Carnegie remains a beacon of culture and community in Downtown Dublin Georgia for generations to come. \nCarnegie Beginnings\nOriginally erected in 1904\, funding for the building was provided largely by the philanthropist Andrew Carnegie who offered $10\,000 as part of his educational program. This architectural masterpiece served as Laurens County’s public library for many years\, becoming an invaluable resource to the community. An architectural marvel\, Dublin Carnegie is the perfect historic venue for intimate receptions\, meetings\, weddings\, and art exhibits. This historical gem is one 0f three remaining Carnegie buildings in Georgia still in its original form.
URL:https://visitdublinga.org/event/dublin-carnegie-events/
LOCATION:Dublin Carnegie\, 311 Academy Avenue\, Dublin\, GA\, 31021\, United States
CATEGORIES:Date Night,Entertainment,Food,History
ATTACH;FMTTYPE=image/jpeg:https://visitdublinga.org/wp-content/uploads/2025/11/VisitDublinBetterwithTimeFeb13-1-scaled.jpg
ORGANIZER;CN="Downtown Development Authority":MAILTO:info@dtdublin.com
GEO:32.5382957;-82.9078839
X-APPLE-STRUCTURED-LOCATION;VALUE=URI;X-ADDRESS=Dublin Carnegie 311 Academy Avenue Dublin GA 31021 United States;X-APPLE-RADIUS=500;X-TITLE=311 Academy Avenue:geo:-82.9078839,32.5382957
END:VEVENT
BEGIN:VEVENT
DTSTART;TZID=America/New_York:20260221T190000
DTEND;TZID=America/New_York:20260221T210000
DTSTAMP:20260421T230603
CREATED:20250610T170053Z
LAST-MODIFIED:20260415T133252Z
UID:10018741-1771700400-1771707600@visitdublinga.org
SUMMARY:Concerts at Theatre Dublin
DESCRIPTION:Theatre Dublin lights up the stage with an assortment of tribute concerts throughout the year. Grab the whole crew and jam out to classic tunes that everyone loves\, presented by people with a passion for playing! \nConcerts\n  \nTheatre Dublin\n\nBuilt in 1934 and renovated in 1996\, Theatre Dublin serves as a performing arts center for Dublin‐Laurens County and surrounding areas. Theatre Dublin can accommodate over 600 people and has state‐of‐the‐art sound and lighting equipment. The theatre is owned by the City of Dublin and managed by the Dublin Downtown Development Authority. It is used primarily for live productions and concerts with special showings of movies throughout the year. \nHave questions about ticketing or booking Theatre Dublin? Please contact 478-272-2560 or email info@dtdublin.com.
URL:https://visitdublinga.org/event/concerts-at-theatre-dublin-new/
LOCATION:Theatre Dublin\, 314 Academy Avenue\, Dublin\, GA\, United States
CATEGORIES:Arts and Culture,Date Night,Entertainment,Family-friendly,Music
ATTACH;FMTTYPE=image/jpeg:https://visitdublinga.org/wp-content/uploads/2024/07/VisitDublinTheatreDublinJuly29-7.jpeg
ORGANIZER;CN="Downtown Development Authority":MAILTO:info@dtdublin.com
GEO:32.5382957;-82.9078839
X-APPLE-STRUCTURED-LOCATION;VALUE=URI;X-ADDRESS=Theatre Dublin 314 Academy Avenue Dublin GA United States;X-APPLE-RADIUS=500;X-TITLE=314 Academy Avenue:geo:-82.9078839,32.5382957
END:VEVENT
END:VCALENDAR