BEGIN:VCALENDAR
VERSION:2.0
PRODID:-//Visit Dublin Georgia - ECPv6.15.20//NONSGML v1.0//EN
CALSCALE:GREGORIAN
METHOD:PUBLISH
X-ORIGINAL-URL:https://visitdublinga.org
X-WR-CALDESC:Events for Visit Dublin Georgia
REFRESH-INTERVAL;VALUE=DURATION:PT1H
X-Robots-Tag:noindex
X-PUBLISHED-TTL:PT1H
BEGIN:VTIMEZONE
TZID:America/New_York
BEGIN:DAYLIGHT
TZOFFSETFROM:-0500
TZOFFSETTO:-0400
TZNAME:EDT
DTSTART:20250309T070000
END:DAYLIGHT
BEGIN:STANDARD
TZOFFSETFROM:-0400
TZOFFSETTO:-0500
TZNAME:EST
DTSTART:20251102T060000
END:STANDARD
BEGIN:DAYLIGHT
TZOFFSETFROM:-0500
TZOFFSETTO:-0400
TZNAME:EDT
DTSTART:20260308T070000
END:DAYLIGHT
BEGIN:STANDARD
TZOFFSETFROM:-0400
TZOFFSETTO:-0500
TZNAME:EST
DTSTART:20261101T060000
END:STANDARD
BEGIN:DAYLIGHT
TZOFFSETFROM:-0500
TZOFFSETTO:-0400
TZNAME:EDT
DTSTART:20270314T070000
END:DAYLIGHT
BEGIN:STANDARD
TZOFFSETFROM:-0400
TZOFFSETTO:-0500
TZNAME:EST
DTSTART:20271107T060000
END:STANDARD
END:VTIMEZONE
BEGIN:VEVENT
DTSTART;TZID=America/New_York:20260309T180000
DTEND;TZID=America/New_York:20260309T210000
DTSTAMP:20260423T124354
CREATED:20251226T135602Z
LAST-MODIFIED:20251226T214747Z
UID:10004594-1773079200-1773090000@visitdublinga.org
SUMMARY:St. Patrick's Leprechaun Contest
DESCRIPTION:Leprechauns multiply by the dozens at the 59th Annual Leprechaun Contest at the Dublin High School Auditorium on Monday\, March 9th at 6 PM! Sponsored by Leadership Dublin-Laurens County\, the annual Leprechaun Contest is an official St. Patrick’s Festival Event. \nBit ‘O Blarney\nIrish green and creativity adorn wee 1st\, 2nd and 3rd grade students from the Laurens County area schools and homeschool students. Clever contestants compete against other children from their age group to be crowned the winner. Participants are judged on makeup\, originality\, authenticity\, imagination\, and general appearance. The top three boys and three girls from each grade receive trophies. The real prize for everyone is to see the winners in the Dublin St. Patrick’s Parade on Super Saturday! \nAll are welcome to attend to give a clap and dance a jig for the contestants. Admission is $10 for adults and $5 for children 12 to 3. Children under 3 are FREE. The Dublin High School Auditorium is located at 1127 Hillcrest Parkway. \n…and More\nFire up the weekend packed with fun at Market On Madison with FREE Pig In the Park ft. Will Moseley\, Friday February 27th! \nBuild up momentum for St. Patrick’s Super Saturday on March 14th! \nJazz your senses at Music & Munchies on Super Saturday. \nKeep your eye on the sky for St. Patricks Irish Balloon Festival & Glow Friday and Saturday\, March 27th and 28th. \nFor information on more Dublin St. Patrick’s Festival events\, visit DublinStPatricks.com. \nFestival Beginnings\nDublin Laurens County holds Georgia’s longest St. Patrick’s Festival every March! Dublin’s original festival kicked off in 1966\, thanks to local radio personality\, Dick Killebrew\, who celebrated St. Patrick’s Day by playing Irish music and telling Irish stories and jokes. He felt the community should celebrate in honor of its Irish namesake\, and others agreed. The first festival lasted for 11 days and included a Parade and Pancake Supper which are still celebrated today. The Festival has grown and changed over the years\, and now includes six weeks of celebration. With a multitude of family friendly events\, there is something for everyone! \nLearn more about the first St. Patrick’s Festival in Dublin GA HERE!
URL:https://visitdublinga.org/event/st-patricks-leprechaun-contest/
LOCATION:Dublin High School Auditorium\, 1127 Hillcrest Parkway\, Dublin\, GA\, 31021\, United States
CATEGORIES:Entertainment,Family-friendly,St Patrick's Day
ATTACH;FMTTYPE=image/jpeg:https://visitdublinga.org/wp-content/uploads/2025/01/LeprechaunContest2025-16-scaled.jpg
GEO:32.5479824;-82.9303512
X-APPLE-STRUCTURED-LOCATION;VALUE=URI;X-ADDRESS=Dublin High School Auditorium 1127 Hillcrest Parkway Dublin GA 31021 United States;X-APPLE-RADIUS=500;X-TITLE=1127 Hillcrest Parkway:geo:-82.9303512,32.5479824
END:VEVENT
BEGIN:VEVENT
DTSTART;TZID=America/New_York:20260314T173000
DTEND;TZID=America/New_York:20260314T230000
DTSTAMP:20260423T124354
CREATED:20260123T131916Z
LAST-MODIFIED:20260309T181854Z
UID:10004319-1773509400-1773529200@visitdublinga.org
SUMMARY:Music & Munchies in Downtown Dublin
DESCRIPTION:Music and Munchies is BACK in the heart of Downtown Dublin\, stopping traffic with a swingin’ good time right on West Jackson Street! \nMore Music\, More Merriment!\nGrab all the lads and lassies to jig\, groove\, jam\, and swing in the middle of West Jackson Street in Downtown Dublin GA on March 14th from 5:30 PM to 11 PM. For the 61st Dublin Laurens St. Patrick’s Festival\, Atlanta’s very own The Tams bring that soul sound to Downtown! \nMusical Line Up\n5:30 PM Emerald Empire Band kicks off the night with a variety of high energy tunes to get the party going. \n8:30 PM The Tams keep the good vibes going with their classic\, beachy R&B and soul hits. \nMunchies\nAll the swinging and grooving is going to leave you hungry. The St. Patrick’s Festival Committee has got you covered with the best in local and regional eats! Get your groove on\, then dive into all the eats. \nAre you a vendor looking to sling some food? We’re on the hunt for more tasty food and drink vendors. \n\nFood Vendor Application Closed\n\nThe application fee is $100. Payment options are included on second page of application. \nTicket Details\nAdmission: Tickets are $20. Purchase your tickets HERE!\nChildren 10 years and younger are FREE! \nMusic and Munchies is limited capacity. Get your tickets before they sell out! No tickets will be sold at the gate. Ticket sales are final. \nShare the Love\nTag your Music & Munchies photos using #DublinGA ! \nStay connected with the Dublin Laurens St. Patrick’s Festival Facebook\, Instagram\, and DublinStPatricks.com and subscribe to the Visit Dublin GA Event Calendar to stay up to date with all the swingin’ shenanigans. \n…and More\nFire up the weekend packed with fun at Market On Madison with Pig In the Park Friday and Saturday\, February 27th & 28th. \nBuild up momentum for St. Patrick’s Super Saturday on March 14th! \nKeep your eye on the sky for St. Patricks Irish Balloon Festival & Glow Friday and Saturday\, March 20th and 21st.
URL:https://visitdublinga.org/event/music-munchies-in-downtown-dublin/
LOCATION:Downtown Dublin\, 314 Academy Avenue\, Dublin\, GA\, 31021\, United States
CATEGORIES:Arts and Culture,Entertainment,Fairs & Festivals,Family-friendly,Food,Music,Outdoor,St Patrick's Day
ATTACH;FMTTYPE=image/jpeg:https://visitdublinga.org/wp-content/uploads/2025/03/SuperSatiurdayMarch15-116-scaled.jpg
ORGANIZER;CN="St. Patrick's Festival":MAILTO:dublinstpats@gmail.com
GEO:32.5382957;-82.9078839
X-APPLE-STRUCTURED-LOCATION;VALUE=URI;X-ADDRESS=Downtown Dublin 314 Academy Avenue Dublin GA 31021 United States;X-APPLE-RADIUS=500;X-TITLE=314 Academy Avenue:geo:-82.9078839,32.5382957
END:VEVENT
END:VCALENDAR