BEGIN:VCALENDAR
VERSION:2.0
PRODID:-//Visit Dublin Georgia - ECPv6.15.20//NONSGML v1.0//EN
CALSCALE:GREGORIAN
METHOD:PUBLISH
X-WR-CALNAME:Visit Dublin Georgia
X-ORIGINAL-URL:https://visitdublinga.org
X-WR-CALDESC:Events for Visit Dublin Georgia
REFRESH-INTERVAL;VALUE=DURATION:PT1H
X-Robots-Tag:noindex
X-PUBLISHED-TTL:PT1H
BEGIN:VTIMEZONE
TZID:America/New_York
BEGIN:DAYLIGHT
TZOFFSETFROM:-0500
TZOFFSETTO:-0400
TZNAME:EDT
DTSTART:20250309T070000
END:DAYLIGHT
BEGIN:STANDARD
TZOFFSETFROM:-0400
TZOFFSETTO:-0500
TZNAME:EST
DTSTART:20251102T060000
END:STANDARD
BEGIN:DAYLIGHT
TZOFFSETFROM:-0500
TZOFFSETTO:-0400
TZNAME:EDT
DTSTART:20260308T070000
END:DAYLIGHT
BEGIN:STANDARD
TZOFFSETFROM:-0400
TZOFFSETTO:-0500
TZNAME:EST
DTSTART:20261101T060000
END:STANDARD
BEGIN:DAYLIGHT
TZOFFSETFROM:-0500
TZOFFSETTO:-0400
TZNAME:EDT
DTSTART:20270314T070000
END:DAYLIGHT
BEGIN:STANDARD
TZOFFSETFROM:-0400
TZOFFSETTO:-0500
TZNAME:EST
DTSTART:20271107T060000
END:STANDARD
END:VTIMEZONE
BEGIN:VEVENT
DTSTART;TZID=America/New_York:20260302T090000
DTEND;TZID=America/New_York:20260302T190000
DTSTAMP:20260424T180200
CREATED:20251229T131306Z
LAST-MODIFIED:20260126T184152Z
UID:10019338-1772442000-1772478000@visitdublinga.org
SUMMARY:St. Patrick's Book Sale
DESCRIPTION:Find a world of new adventures for everyone during Laurens County Library’s St. Patrick’s Used Book Sale on Saturday\, February 28th through Friday\, March 13th. This sale combines the best of classics\, new releases\, and old favorites with awesome prices! \nSt. Patrick’s Used Book Sale\nFind a literary pot of gold at the end of the rainbow by visiting the book sale. With costs ranging from 50 cents for paperback books\, VHS tapes\, and audiocassettes to $1 for hardback books and DVD’s\, you will save a bundle! \nFeaturing books on cooking\, crafts\, kids\, and characters\, the sale will also feature fiction titles\, biographies\, VHS movies and audio books on cassette. Admission is free\, so bring a few totes to carry all your finds! \nDublin-Laurens County Library is located at 801 Bellevue Avenue\, and is open Monday through Thursday 9 AM – 7 PM\, Friday 9 AM to 5 PM\, Saturday 10 AM – 2 PM\,  and closed Sundays. \nFor more information and lots more events throughout the year\, visit Laurens County Library online. \n…and More\nBuild up momentum for St. Patrick’s Super Saturday on March 14th! \nKeep your eye on the sky for St. Patricks Irish Balloon Festival & Glow Friday and Saturday\, March 20th and 21st with themed specialty balloons! \nLearn more about the St. Patrick’s Festival in Dublin GA HERE \nFestival Beginnings\nDublin Laurens County holds Georgia’s longest St. Patrick’s Festival every March! Dublin’s original festival kicked off in 1966\, thanks to local radio personality\, Dick Killebrew\, who celebrated St. Patrick’s Day by playing Irish music and telling Irish stories and jokes. He felt the community should celebrate in honor of its Irish namesake\, and others agreed. The first festival lasted for 11 days and included a Parade and Pancake Supper which are still celebrated today. The Festival has grown and changed over the years\, and now includes six weeks of celebration. With a multitude of family friendly events\, there is something for everyone! \nPhoto Credit: Laurens County Library via FB
URL:https://visitdublinga.org/event/st-patricks-used-book-sale/2026-03-02/
LOCATION:Dublin-Laurens County Library\, 801 Bellevue Avenue\, Dublin\, GA\, 31021\, United States
CATEGORIES:Family-friendly,Spring,St Patrick's Day
ATTACH;FMTTYPE=image/jpeg:https://visitdublinga.org/wp-content/uploads/2025/02/Library-Book-Sale-St.-Patricks.jpg
GEO:32.5377907;-82.9163239
X-APPLE-STRUCTURED-LOCATION;VALUE=URI;X-ADDRESS=Dublin-Laurens County Library 801 Bellevue Avenue Dublin GA 31021 United States;X-APPLE-RADIUS=500;X-TITLE=801 Bellevue Avenue:geo:-82.9163239,32.5377907
END:VEVENT
BEGIN:VEVENT
DTSTART;TZID=America/New_York:20260303T090000
DTEND;TZID=America/New_York:20260303T190000
DTSTAMP:20260424T180200
CREATED:20251229T131306Z
LAST-MODIFIED:20260126T184152Z
UID:10019339-1772528400-1772564400@visitdublinga.org
SUMMARY:St. Patrick's Book Sale
DESCRIPTION:Find a world of new adventures for everyone during Laurens County Library’s St. Patrick’s Used Book Sale on Saturday\, February 28th through Friday\, March 13th. This sale combines the best of classics\, new releases\, and old favorites with awesome prices! \nSt. Patrick’s Used Book Sale\nFind a literary pot of gold at the end of the rainbow by visiting the book sale. With costs ranging from 50 cents for paperback books\, VHS tapes\, and audiocassettes to $1 for hardback books and DVD’s\, you will save a bundle! \nFeaturing books on cooking\, crafts\, kids\, and characters\, the sale will also feature fiction titles\, biographies\, VHS movies and audio books on cassette. Admission is free\, so bring a few totes to carry all your finds! \nDublin-Laurens County Library is located at 801 Bellevue Avenue\, and is open Monday through Thursday 9 AM – 7 PM\, Friday 9 AM to 5 PM\, Saturday 10 AM – 2 PM\,  and closed Sundays. \nFor more information and lots more events throughout the year\, visit Laurens County Library online. \n…and More\nBuild up momentum for St. Patrick’s Super Saturday on March 14th! \nKeep your eye on the sky for St. Patricks Irish Balloon Festival & Glow Friday and Saturday\, March 20th and 21st with themed specialty balloons! \nLearn more about the St. Patrick’s Festival in Dublin GA HERE \nFestival Beginnings\nDublin Laurens County holds Georgia’s longest St. Patrick’s Festival every March! Dublin’s original festival kicked off in 1966\, thanks to local radio personality\, Dick Killebrew\, who celebrated St. Patrick’s Day by playing Irish music and telling Irish stories and jokes. He felt the community should celebrate in honor of its Irish namesake\, and others agreed. The first festival lasted for 11 days and included a Parade and Pancake Supper which are still celebrated today. The Festival has grown and changed over the years\, and now includes six weeks of celebration. With a multitude of family friendly events\, there is something for everyone! \nPhoto Credit: Laurens County Library via FB
URL:https://visitdublinga.org/event/st-patricks-used-book-sale/2026-03-03/
LOCATION:Dublin-Laurens County Library\, 801 Bellevue Avenue\, Dublin\, GA\, 31021\, United States
CATEGORIES:Family-friendly,Spring,St Patrick's Day
ATTACH;FMTTYPE=image/jpeg:https://visitdublinga.org/wp-content/uploads/2025/02/Library-Book-Sale-St.-Patricks.jpg
GEO:32.5377907;-82.9163239
X-APPLE-STRUCTURED-LOCATION;VALUE=URI;X-ADDRESS=Dublin-Laurens County Library 801 Bellevue Avenue Dublin GA 31021 United States;X-APPLE-RADIUS=500;X-TITLE=801 Bellevue Avenue:geo:-82.9163239,32.5377907
END:VEVENT
BEGIN:VEVENT
DTSTART;TZID=America/New_York:20260303T180000
DTEND;TZID=America/New_York:20260303T193000
DTSTAMP:20260424T180201
CREATED:20260126T132818Z
LAST-MODIFIED:20260126T153945Z
UID:10004447-1772560800-1772566200@visitdublinga.org
SUMMARY:Littlest Leprechaun Contest
DESCRIPTION:Little Irish personalities will be shinin’ through when The Lighthouse Adult Daycare Center presents\, an official St. Patrick’s Festival Event\, Littlest Leprechaun Contest at Theatre Dublin on March 3rd at 6 PM. Children and parents will both delight in showcasing their imaginative costumes and embodying the spirit of mischievous leprechauns and clever characters of wee lads and lassies ages 6 month through Kindergarten. \nJoin our community for an evening filled with laughter and joy as children take the stage. From tiny green hats to sparkling shamrock accessories\, each contestant will captivate the audience with their unique charm and personality. \nParents and children alike will delight in this enchanting contest\, where every little leprechaun shines bright with Irish spirit. Don’t miss this opportunity to be part of a magical evening filled with love\, laughter\, and the luck of the Irish! \nSpectator admission: $5 at the door. \nRegistration\nClick Here for the application. \n\n\n\nBoth boy and girl applicants age groups are as follows: \n\nBaby Leprechaun: 6 months through 2 years\nWee Ones Leprechaun: 3 years through Kindergarten\n\nFor any other questions\, contact The Lighthouse Adult Day Care Center: (478) 274-0003 \n\n\n\n\n\n\n…and More\nCelebrate the Luck of the Irish throughout the month of March in Dublin GA! \nBuild up momentum for St. Patrick’s Super Saturday on March 14th! \nJazz your senses at Music & Munchies  on Saturday\, March 14th. \nKeep your eye on the sky for St. Patricks Irish Balloon Festival & Glow Friday and Saturday\, March 20th and 21st. \nFor information on more Dublin St. Patrick’s Festival events\, visit the St. Patrick’s Festival website. \nEvent Venue\nLooking for a classic Art Deco space for an upcoming event? Theatre Dublin features a concert grand piano\, concession stand\, dressing rooms\, a dance floor\, and projection equipment for your event needs. With its central location in Downtown Dublin\, guests enjoy plenty of access to free parking\, free Wi-Fi access throughout Downtown\, and nationally acclaimed dining just steps away. \nPhoto Credit: Miss St. Patrick’s Queen via FB
URL:https://visitdublinga.org/event/littlest-leprechaun-contest/
LOCATION:Theatre Dublin\, 314 Academy Avenue\, Dublin\, GA\, United States
CATEGORIES:Fairs & Festivals,Family-friendly,St Patrick's Day
ATTACH;FMTTYPE=image/jpeg:https://visitdublinga.org/wp-content/uploads/2026/01/StPatsMusicMunchies-21.jpeg
GEO:32.5382957;-82.9078839
X-APPLE-STRUCTURED-LOCATION;VALUE=URI;X-ADDRESS=Theatre Dublin 314 Academy Avenue Dublin GA United States;X-APPLE-RADIUS=500;X-TITLE=314 Academy Avenue:geo:-82.9078839,32.5382957
END:VEVENT
BEGIN:VEVENT
DTSTART;TZID=America/New_York:20260304T080000
DTEND;TZID=America/New_York:20260305T000000
DTSTAMP:20260424T180201
CREATED:20251229T131306Z
LAST-MODIFIED:20260126T184152Z
UID:10019413-1772611200-1772668800@visitdublinga.org
SUMMARY:St. Patrick's Book Sale
DESCRIPTION:Find a world of new adventures for everyone during Laurens County Library’s St. Patrick’s Used Book Sale on Saturday\, February 28th through Friday\, March 13th. This sale combines the best of classics\, new releases\, and old favorites with awesome prices! \nSt. Patrick’s Used Book Sale\nFind a literary pot of gold at the end of the rainbow by visiting the book sale. With costs ranging from 50 cents for paperback books\, VHS tapes\, and audiocassettes to $1 for hardback books and DVD’s\, you will save a bundle! \nFeaturing books on cooking\, crafts\, kids\, and characters\, the sale will also feature fiction titles\, biographies\, VHS movies and audio books on cassette. Admission is free\, so bring a few totes to carry all your finds! \nDublin-Laurens County Library is located at 801 Bellevue Avenue\, and is open Monday through Thursday 9 AM – 7 PM\, Friday 9 AM to 5 PM\, Saturday 10 AM – 2 PM\,  and closed Sundays. \nFor more information and lots more events throughout the year\, visit Laurens County Library online. \n…and More\nBuild up momentum for St. Patrick’s Super Saturday on March 14th! \nKeep your eye on the sky for St. Patricks Irish Balloon Festival & Glow Friday and Saturday\, March 20th and 21st with themed specialty balloons! \nLearn more about the St. Patrick’s Festival in Dublin GA HERE \nFestival Beginnings\nDublin Laurens County holds Georgia’s longest St. Patrick’s Festival every March! Dublin’s original festival kicked off in 1966\, thanks to local radio personality\, Dick Killebrew\, who celebrated St. Patrick’s Day by playing Irish music and telling Irish stories and jokes. He felt the community should celebrate in honor of its Irish namesake\, and others agreed. The first festival lasted for 11 days and included a Parade and Pancake Supper which are still celebrated today. The Festival has grown and changed over the years\, and now includes six weeks of celebration. With a multitude of family friendly events\, there is something for everyone! \nPhoto Credit: Laurens County Library via FB
URL:https://visitdublinga.org/event/st-patricks-used-book-sale/2026-03-04/1/
LOCATION:Dublin-Laurens County Library\, 801 Bellevue Avenue\, Dublin\, GA\, 31021\, United States
CATEGORIES:Family-friendly,Spring,St Patrick's Day
ATTACH;FMTTYPE=image/jpeg:https://visitdublinga.org/wp-content/uploads/2025/02/Library-Book-Sale-St.-Patricks.jpg
GEO:32.5377907;-82.9163239
X-APPLE-STRUCTURED-LOCATION;VALUE=URI;X-ADDRESS=Dublin-Laurens County Library 801 Bellevue Avenue Dublin GA 31021 United States;X-APPLE-RADIUS=500;X-TITLE=801 Bellevue Avenue:geo:-82.9163239,32.5377907
END:VEVENT
BEGIN:VEVENT
DTSTART;TZID=America/New_York:20260304T090000
DTEND;TZID=America/New_York:20260304T190000
DTSTAMP:20260424T180201
CREATED:20251229T131306Z
LAST-MODIFIED:20260126T184152Z
UID:10019341-1772614800-1772650800@visitdublinga.org
SUMMARY:St. Patrick's Book Sale
DESCRIPTION:Find a world of new adventures for everyone during Laurens County Library’s St. Patrick’s Used Book Sale on Saturday\, February 28th through Friday\, March 13th. This sale combines the best of classics\, new releases\, and old favorites with awesome prices! \nSt. Patrick’s Used Book Sale\nFind a literary pot of gold at the end of the rainbow by visiting the book sale. With costs ranging from 50 cents for paperback books\, VHS tapes\, and audiocassettes to $1 for hardback books and DVD’s\, you will save a bundle! \nFeaturing books on cooking\, crafts\, kids\, and characters\, the sale will also feature fiction titles\, biographies\, VHS movies and audio books on cassette. Admission is free\, so bring a few totes to carry all your finds! \nDublin-Laurens County Library is located at 801 Bellevue Avenue\, and is open Monday through Thursday 9 AM – 7 PM\, Friday 9 AM to 5 PM\, Saturday 10 AM – 2 PM\,  and closed Sundays. \nFor more information and lots more events throughout the year\, visit Laurens County Library online. \n…and More\nBuild up momentum for St. Patrick’s Super Saturday on March 14th! \nKeep your eye on the sky for St. Patricks Irish Balloon Festival & Glow Friday and Saturday\, March 20th and 21st with themed specialty balloons! \nLearn more about the St. Patrick’s Festival in Dublin GA HERE \nFestival Beginnings\nDublin Laurens County holds Georgia’s longest St. Patrick’s Festival every March! Dublin’s original festival kicked off in 1966\, thanks to local radio personality\, Dick Killebrew\, who celebrated St. Patrick’s Day by playing Irish music and telling Irish stories and jokes. He felt the community should celebrate in honor of its Irish namesake\, and others agreed. The first festival lasted for 11 days and included a Parade and Pancake Supper which are still celebrated today. The Festival has grown and changed over the years\, and now includes six weeks of celebration. With a multitude of family friendly events\, there is something for everyone! \nPhoto Credit: Laurens County Library via FB
URL:https://visitdublinga.org/event/st-patricks-used-book-sale/2026-03-04/2/
LOCATION:Dublin-Laurens County Library\, 801 Bellevue Avenue\, Dublin\, GA\, 31021\, United States
CATEGORIES:Family-friendly,Spring,St Patrick's Day
ATTACH;FMTTYPE=image/jpeg:https://visitdublinga.org/wp-content/uploads/2025/02/Library-Book-Sale-St.-Patricks.jpg
GEO:32.5377907;-82.9163239
X-APPLE-STRUCTURED-LOCATION;VALUE=URI;X-ADDRESS=Dublin-Laurens County Library 801 Bellevue Avenue Dublin GA 31021 United States;X-APPLE-RADIUS=500;X-TITLE=801 Bellevue Avenue:geo:-82.9163239,32.5377907
END:VEVENT
BEGIN:VEVENT
DTSTART;TZID=America/New_York:20260305T090000
DTEND;TZID=America/New_York:20260305T190000
DTSTAMP:20260424T180201
CREATED:20251229T131306Z
LAST-MODIFIED:20260126T184152Z
UID:10019342-1772701200-1772737200@visitdublinga.org
SUMMARY:St. Patrick's Book Sale
DESCRIPTION:Find a world of new adventures for everyone during Laurens County Library’s St. Patrick’s Used Book Sale on Saturday\, February 28th through Friday\, March 13th. This sale combines the best of classics\, new releases\, and old favorites with awesome prices! \nSt. Patrick’s Used Book Sale\nFind a literary pot of gold at the end of the rainbow by visiting the book sale. With costs ranging from 50 cents for paperback books\, VHS tapes\, and audiocassettes to $1 for hardback books and DVD’s\, you will save a bundle! \nFeaturing books on cooking\, crafts\, kids\, and characters\, the sale will also feature fiction titles\, biographies\, VHS movies and audio books on cassette. Admission is free\, so bring a few totes to carry all your finds! \nDublin-Laurens County Library is located at 801 Bellevue Avenue\, and is open Monday through Thursday 9 AM – 7 PM\, Friday 9 AM to 5 PM\, Saturday 10 AM – 2 PM\,  and closed Sundays. \nFor more information and lots more events throughout the year\, visit Laurens County Library online. \n…and More\nBuild up momentum for St. Patrick’s Super Saturday on March 14th! \nKeep your eye on the sky for St. Patricks Irish Balloon Festival & Glow Friday and Saturday\, March 20th and 21st with themed specialty balloons! \nLearn more about the St. Patrick’s Festival in Dublin GA HERE \nFestival Beginnings\nDublin Laurens County holds Georgia’s longest St. Patrick’s Festival every March! Dublin’s original festival kicked off in 1966\, thanks to local radio personality\, Dick Killebrew\, who celebrated St. Patrick’s Day by playing Irish music and telling Irish stories and jokes. He felt the community should celebrate in honor of its Irish namesake\, and others agreed. The first festival lasted for 11 days and included a Parade and Pancake Supper which are still celebrated today. The Festival has grown and changed over the years\, and now includes six weeks of celebration. With a multitude of family friendly events\, there is something for everyone! \nPhoto Credit: Laurens County Library via FB
URL:https://visitdublinga.org/event/st-patricks-used-book-sale/2026-03-05/
LOCATION:Dublin-Laurens County Library\, 801 Bellevue Avenue\, Dublin\, GA\, 31021\, United States
CATEGORIES:Family-friendly,Spring,St Patrick's Day
ATTACH;FMTTYPE=image/jpeg:https://visitdublinga.org/wp-content/uploads/2025/02/Library-Book-Sale-St.-Patricks.jpg
GEO:32.5377907;-82.9163239
X-APPLE-STRUCTURED-LOCATION;VALUE=URI;X-ADDRESS=Dublin-Laurens County Library 801 Bellevue Avenue Dublin GA 31021 United States;X-APPLE-RADIUS=500;X-TITLE=801 Bellevue Avenue:geo:-82.9163239,32.5377907
END:VEVENT
BEGIN:VEVENT
DTSTART;TZID=America/New_York:20260305T180000
DTEND;TZID=America/New_York:20260305T200000
DTSTAMP:20260424T180201
CREATED:20260102T134806Z
LAST-MODIFIED:20260410T125124Z
UID:10018886-1772733600-1772740800@visitdublinga.org
SUMMARY:Now Showing at Martin Movie House
DESCRIPTION:Make a date for what is Now Showing at Martin Movie House in Dublin GA! Take in a show at Downtown Dublin’s revived Martin Movie House at Theatre Dublin. \nLocated in the heart of Downtown Dublin GA at historic Theatre Dublin\, Martin Movie House has come back to life in a huge way. Boasting the largest retractable movie screen in Georgia\, a custom built 40 foot screen and 15-speaker motion-driven digital surround sound system allows each of the 620 seats an experience of the highest quality visual and sound. \nMovie Schedule\nLadies Night!\nAdmissions: $2 | 7 PM | Themed concession specials at each movie. \nWhere The Crawdads Sing \nMay 7th | PG-13\nA man is discovered dead\, and a woman living alone in the perilous marshlands of North Carolina becomes the prime suspect. As the investigation progresses\, the truth about what transpired grows more obscure\, casting the spotlight on numerous hidden secrets. \nMovie House\nBuilt-in 1934\, The Martin operated as a movie house\, providing years of entertainment for families and a hip hangout for teens\, with opening night showings of cult favorites Star Wars\, Grease\, and so many more. As the 1970s neared its end\, the retro movie theatre began to slowly fall into disarray. Not to allow such a prominent part of Dublin GA history fall away\, in the 90’s a group of businessmen and an enthusiastic community came together to save the historic theatre from demolition with a complete renovation. In 1996\, Theatre Dublin was born as a performing arts center\, hosting arts and culture events such as the Atlanta Pops Orchestra and the annual production of The Nutcracker.
URL:https://visitdublinga.org/event/now-showing-at-martin-movie-house-2-2/2026-03-05/
LOCATION:Theatre Dublin\, 314 Academy Avenue\, Dublin\, GA\, United States
CATEGORIES:Arts and Culture,Entertainment,Family-friendly
ATTACH;FMTTYPE=image/jpeg:https://visitdublinga.org/wp-content/uploads/2024/01/VisitDublinNYE2023-22.jpeg
ORGANIZER;CN="Downtown Development Authority":MAILTO:info@dtdublin.com
GEO:32.5382957;-82.9078839
X-APPLE-STRUCTURED-LOCATION;VALUE=URI;X-ADDRESS=Theatre Dublin 314 Academy Avenue Dublin GA United States;X-APPLE-RADIUS=500;X-TITLE=314 Academy Avenue:geo:-82.9078839,32.5382957
END:VEVENT
BEGIN:VEVENT
DTSTART;TZID=America/New_York:20260306T090000
DTEND;TZID=America/New_York:20260306T170000
DTSTAMP:20260424T180201
CREATED:20251229T131306Z
LAST-MODIFIED:20260126T184152Z
UID:10019343-1772787600-1772816400@visitdublinga.org
SUMMARY:St. Patrick's Book Sale
DESCRIPTION:Find a world of new adventures for everyone during Laurens County Library’s St. Patrick’s Used Book Sale on Saturday\, February 28th through Friday\, March 13th. This sale combines the best of classics\, new releases\, and old favorites with awesome prices! \nSt. Patrick’s Used Book Sale\nFind a literary pot of gold at the end of the rainbow by visiting the book sale. With costs ranging from 50 cents for paperback books\, VHS tapes\, and audiocassettes to $1 for hardback books and DVD’s\, you will save a bundle! \nFeaturing books on cooking\, crafts\, kids\, and characters\, the sale will also feature fiction titles\, biographies\, VHS movies and audio books on cassette. Admission is free\, so bring a few totes to carry all your finds! \nDublin-Laurens County Library is located at 801 Bellevue Avenue\, and is open Monday through Thursday 9 AM – 7 PM\, Friday 9 AM to 5 PM\, Saturday 10 AM – 2 PM\,  and closed Sundays. \nFor more information and lots more events throughout the year\, visit Laurens County Library online. \n…and More\nBuild up momentum for St. Patrick’s Super Saturday on March 14th! \nKeep your eye on the sky for St. Patricks Irish Balloon Festival & Glow Friday and Saturday\, March 20th and 21st with themed specialty balloons! \nLearn more about the St. Patrick’s Festival in Dublin GA HERE \nFestival Beginnings\nDublin Laurens County holds Georgia’s longest St. Patrick’s Festival every March! Dublin’s original festival kicked off in 1966\, thanks to local radio personality\, Dick Killebrew\, who celebrated St. Patrick’s Day by playing Irish music and telling Irish stories and jokes. He felt the community should celebrate in honor of its Irish namesake\, and others agreed. The first festival lasted for 11 days and included a Parade and Pancake Supper which are still celebrated today. The Festival has grown and changed over the years\, and now includes six weeks of celebration. With a multitude of family friendly events\, there is something for everyone! \nPhoto Credit: Laurens County Library via FB
URL:https://visitdublinga.org/event/st-patricks-used-book-sale/2026-03-06/
LOCATION:Dublin-Laurens County Library\, 801 Bellevue Avenue\, Dublin\, GA\, 31021\, United States
CATEGORIES:Family-friendly,Spring,St Patrick's Day
ATTACH;FMTTYPE=image/jpeg:https://visitdublinga.org/wp-content/uploads/2025/02/Library-Book-Sale-St.-Patricks.jpg
GEO:32.5377907;-82.9163239
X-APPLE-STRUCTURED-LOCATION;VALUE=URI;X-ADDRESS=Dublin-Laurens County Library 801 Bellevue Avenue Dublin GA 31021 United States;X-APPLE-RADIUS=500;X-TITLE=801 Bellevue Avenue:geo:-82.9163239,32.5377907
END:VEVENT
BEGIN:VEVENT
DTSTART;TZID=America/New_York:20260307T100000
DTEND;TZID=America/New_York:20260307T140000
DTSTAMP:20260424T180201
CREATED:20251229T131306Z
LAST-MODIFIED:20260126T184152Z
UID:10019344-1772877600-1772892000@visitdublinga.org
SUMMARY:St. Patrick's Book Sale
DESCRIPTION:Find a world of new adventures for everyone during Laurens County Library’s St. Patrick’s Used Book Sale on Saturday\, February 28th through Friday\, March 13th. This sale combines the best of classics\, new releases\, and old favorites with awesome prices! \nSt. Patrick’s Used Book Sale\nFind a literary pot of gold at the end of the rainbow by visiting the book sale. With costs ranging from 50 cents for paperback books\, VHS tapes\, and audiocassettes to $1 for hardback books and DVD’s\, you will save a bundle! \nFeaturing books on cooking\, crafts\, kids\, and characters\, the sale will also feature fiction titles\, biographies\, VHS movies and audio books on cassette. Admission is free\, so bring a few totes to carry all your finds! \nDublin-Laurens County Library is located at 801 Bellevue Avenue\, and is open Monday through Thursday 9 AM – 7 PM\, Friday 9 AM to 5 PM\, Saturday 10 AM – 2 PM\,  and closed Sundays. \nFor more information and lots more events throughout the year\, visit Laurens County Library online. \n…and More\nBuild up momentum for St. Patrick’s Super Saturday on March 14th! \nKeep your eye on the sky for St. Patricks Irish Balloon Festival & Glow Friday and Saturday\, March 20th and 21st with themed specialty balloons! \nLearn more about the St. Patrick’s Festival in Dublin GA HERE \nFestival Beginnings\nDublin Laurens County holds Georgia’s longest St. Patrick’s Festival every March! Dublin’s original festival kicked off in 1966\, thanks to local radio personality\, Dick Killebrew\, who celebrated St. Patrick’s Day by playing Irish music and telling Irish stories and jokes. He felt the community should celebrate in honor of its Irish namesake\, and others agreed. The first festival lasted for 11 days and included a Parade and Pancake Supper which are still celebrated today. The Festival has grown and changed over the years\, and now includes six weeks of celebration. With a multitude of family friendly events\, there is something for everyone! \nPhoto Credit: Laurens County Library via FB
URL:https://visitdublinga.org/event/st-patricks-used-book-sale/2026-03-07/
LOCATION:Dublin-Laurens County Library\, 801 Bellevue Avenue\, Dublin\, GA\, 31021\, United States
CATEGORIES:Family-friendly,Spring,St Patrick's Day
ATTACH;FMTTYPE=image/jpeg:https://visitdublinga.org/wp-content/uploads/2025/02/Library-Book-Sale-St.-Patricks.jpg
GEO:32.5377907;-82.9163239
X-APPLE-STRUCTURED-LOCATION;VALUE=URI;X-ADDRESS=Dublin-Laurens County Library 801 Bellevue Avenue Dublin GA 31021 United States;X-APPLE-RADIUS=500;X-TITLE=801 Bellevue Avenue:geo:-82.9163239,32.5377907
END:VEVENT
BEGIN:VEVENT
DTSTART;TZID=America/New_York:20260307T190000
DTEND;TZID=America/New_York:20260307T210000
DTSTAMP:20260424T180201
CREATED:20260102T134806Z
LAST-MODIFIED:20260410T125124Z
UID:10019415-1772910000-1772917200@visitdublinga.org
SUMMARY:Now Showing at Martin Movie House
DESCRIPTION:Make a date for what is Now Showing at Martin Movie House in Dublin GA! Take in a show at Downtown Dublin’s revived Martin Movie House at Theatre Dublin. \nLocated in the heart of Downtown Dublin GA at historic Theatre Dublin\, Martin Movie House has come back to life in a huge way. Boasting the largest retractable movie screen in Georgia\, a custom built 40 foot screen and 15-speaker motion-driven digital surround sound system allows each of the 620 seats an experience of the highest quality visual and sound. \nMovie Schedule\nLadies Night!\nAdmissions: $2 | 7 PM | Themed concession specials at each movie. \nWhere The Crawdads Sing \nMay 7th | PG-13\nA man is discovered dead\, and a woman living alone in the perilous marshlands of North Carolina becomes the prime suspect. As the investigation progresses\, the truth about what transpired grows more obscure\, casting the spotlight on numerous hidden secrets. \nMovie House\nBuilt-in 1934\, The Martin operated as a movie house\, providing years of entertainment for families and a hip hangout for teens\, with opening night showings of cult favorites Star Wars\, Grease\, and so many more. As the 1970s neared its end\, the retro movie theatre began to slowly fall into disarray. Not to allow such a prominent part of Dublin GA history fall away\, in the 90’s a group of businessmen and an enthusiastic community came together to save the historic theatre from demolition with a complete renovation. In 1996\, Theatre Dublin was born as a performing arts center\, hosting arts and culture events such as the Atlanta Pops Orchestra and the annual production of The Nutcracker.
URL:https://visitdublinga.org/event/now-showing-at-martin-movie-house-2-2/2026-03-07/
LOCATION:Theatre Dublin\, 314 Academy Avenue\, Dublin\, GA\, United States
CATEGORIES:Arts and Culture,Entertainment,Family-friendly
ATTACH;FMTTYPE=image/jpeg:https://visitdublinga.org/wp-content/uploads/2024/01/VisitDublinNYE2023-22.jpeg
ORGANIZER;CN="Downtown Development Authority":MAILTO:info@dtdublin.com
GEO:32.5382957;-82.9078839
X-APPLE-STRUCTURED-LOCATION;VALUE=URI;X-ADDRESS=Theatre Dublin 314 Academy Avenue Dublin GA United States;X-APPLE-RADIUS=500;X-TITLE=314 Academy Avenue:geo:-82.9078839,32.5382957
END:VEVENT
END:VCALENDAR