BEGIN:VCALENDAR
VERSION:2.0
PRODID:-//Visit Dublin Georgia - ECPv6.15.20//NONSGML v1.0//EN
CALSCALE:GREGORIAN
METHOD:PUBLISH
X-ORIGINAL-URL:https://visitdublinga.org
X-WR-CALDESC:Events for Visit Dublin Georgia
REFRESH-INTERVAL;VALUE=DURATION:PT1H
X-Robots-Tag:noindex
X-PUBLISHED-TTL:PT1H
BEGIN:VTIMEZONE
TZID:America/New_York
BEGIN:DAYLIGHT
TZOFFSETFROM:-0500
TZOFFSETTO:-0400
TZNAME:EDT
DTSTART:20250309T070000
END:DAYLIGHT
BEGIN:STANDARD
TZOFFSETFROM:-0400
TZOFFSETTO:-0500
TZNAME:EST
DTSTART:20251102T060000
END:STANDARD
BEGIN:DAYLIGHT
TZOFFSETFROM:-0500
TZOFFSETTO:-0400
TZNAME:EDT
DTSTART:20260308T070000
END:DAYLIGHT
BEGIN:STANDARD
TZOFFSETFROM:-0400
TZOFFSETTO:-0500
TZNAME:EST
DTSTART:20261101T060000
END:STANDARD
BEGIN:DAYLIGHT
TZOFFSETFROM:-0500
TZOFFSETTO:-0400
TZNAME:EDT
DTSTART:20270314T070000
END:DAYLIGHT
BEGIN:STANDARD
TZOFFSETFROM:-0400
TZOFFSETTO:-0500
TZNAME:EST
DTSTART:20271107T060000
END:STANDARD
END:VTIMEZONE
BEGIN:VEVENT
DTSTART;TZID=America/New_York:20260328T090000
DTEND;TZID=America/New_York:20260328T120000
DTSTAMP:20260424T231825
CREATED:20260316T123440Z
LAST-MODIFIED:20260316T152854Z
UID:10019367-1774688400-1774699200@visitdublinga.org
SUMMARY:St. Patrick's Shamrock Smash Pickleball Round Robin
DESCRIPTION:Calling all picklers to try your paddles out during 6th Annual St. Patrick’s Shamrock Smash Pickleball Round Robin on Saturday\, March 28th at Southern Pines Recreational Complex in Dublin GA. \nLet’s Volley\nRegister for the 2026 Shamrock Smash HERE! \nThe Round Robin begins at 9 AM. \nCoordinators and Sponsors\nEach year the Dublin Pickleball Association (DPA) and its members and sponsors\, and Dublin-Laurens County Recreation Authority (DLCRA)\, host a charitable event to support a worthy non-profit in Central Georgia. This year all proceeds will go to the Boys & Girls Club. Your donation is non-refundable. \nThe Kitchen\nWhile you’re working on an ace on the pickleball court\, have your meal plans in hand. Click HERE for dining destinations in Dublin GA! \nPickleball: The art of keeping your eye on the ball…mostly. \nFestival Beginnings\nDublin Laurens County holds Georgia’s longest St. Patrick’s Festival every March! Dublin’s original festival kicked off in 1966\, thanks to local radio personality\, Dick Killebrew\, who celebrated St. Patrick’s Day by playing Irish music and telling Irish stories and jokes. He felt the community should celebrate in honor of its Irish namesake\, and others agreed. The first festival lasted for 11 days and included a Parade and Pancake Supper which are still celebrated today. The Festival has grown and changed over the years\, and now includes six weeks of celebration. With a multitude of family friendly events\, there is something for everyone! \nPhoto Credit: Dublin Pickleball Association
URL:https://visitdublinga.org/event/shamrock-smash-pickleball-tournament/
LOCATION:Southern Pines Regional Park\, 575 Southern Pines Road\, Dublin\, GA\, 31021\, United States
CATEGORIES:Family-friendly,Outdoor,Spring,St Patrick's Day
ATTACH;FMTTYPE=image/png:https://visitdublinga.org/wp-content/uploads/2024/02/Screenshot-2024-02-01-at-2.06.11-PM.png
GEO:32.4902132;-82.9197317
X-APPLE-STRUCTURED-LOCATION;VALUE=URI;X-ADDRESS=Southern Pines Regional Park 575 Southern Pines Road Dublin GA 31021 United States;X-APPLE-RADIUS=500;X-TITLE=575 Southern Pines Road:geo:-82.9197317,32.4902132
END:VEVENT
BEGIN:VEVENT
DTSTART;TZID=America/New_York:20260328T100000
DTEND;TZID=America/New_York:20260328T140000
DTSTAMP:20260424T231825
CREATED:20260308T120411Z
LAST-MODIFIED:20260308T151647Z
UID:10008056-1774692000-1774706400@visitdublinga.org
SUMMARY:Fantastic Futures: Dublin FanCon
DESCRIPTION:Don your cloak\, grab your sonic screwdriver or lightsaber\, and suit up for a super fun morning of fandom frivolity during Fantastic Futures: Dublin FanCon hosted by the Laurens County Library on Saturday\, March 28th from 10 AM to 2 PM! \nDublin FanCon 2026\nFantastic Futures: Dublin FanCon allows you to embrace your inner science fiction\, fantasy\, or comic fanatic. Head to the Laurens County Library on Saturday\, March 28th for a morning jam packed with FREE fun for all ages! \nPeruse booths from local and guest artists and other exhibitors\, visit dedicated fan tables with activities and a chance to win prizes\, and sit in for an exciting lineup of speakers. Past guest speakers included Regents Professor of Science Fiction Studies at Georgia Tech Dr. Lisa Yaszek\, Nebula-Award winning author and founder of SCAD’s Sequential Arts Program Bob Pendarvis\, Middle Georgia Paranormal Investigations\, Science Fiction Author Jack McDevitt\, and the authors of the Jekyll Island Chronicles! \n2026 Key Note Speaker\nAnderson Carman How to Make a Comic Book @ 11 AM\nGet an inside look at how a comic book comes to life\, from the first spark of an idea to the finished printed book. \nAnderson Carman is an award-winning Visual Storyteller specializing in traditional ink\, watercolor\, and digital illustration. He has worked with a wide variety of clients such as Coca-Cola\, Walt Disney Co\, Marvel\, Image Comics\, Penguin Random House\, Hulu\, and UGA Press. A SCAD: Atlanta graduate\, Anderson still lives in Atlanta\, GA\, with his wife and three kids. He enjoys Braves baseball\, listening to Broadway tunes\, and playing D&D with friends. \nFun Galore\, Excelsior!\nAmong the bookshelves\, gab with local and guest artists and speakers\, shop for cool crafts and collectables\, indulge in tabletop activities\, and find even more fun: \n\nNEW! Join the Costume Parade at 12 PM.\nCommemorate your time at Dublin FanCon 2026 at the green screen photo booth. Cosplay is highly encouraged!\nRoll the dice in a game of Dungeons & Dragons\, tap the right cards in Magic the Gathering\, and take part in even more tabletop fun!\nGrab some cosplay tips\, gaming supplies\, reading material\, fandom art\, and more from the booths throughout the library.\nYoung fans join the fun with story times at 11 AM and 1 PM\, crafts\, a dance party\, and more in the Children’s Center.\nLearn how to build your own cosplay on a budget during Cosplay Talk at 12:30 PM.\nTake a break from all the inside activities and step outside to fuel up for more fun with local food trucks or indulge in some gaming at the ACE Express Gaming game trailer.\n\nFor more information\, email info@ocrl.org or call the library at (478)272-5710. \nPhoto Credit: Laurens County Library via Facebook
URL:https://visitdublinga.org/event/fantastic-futures-dublin-fancon/
LOCATION:Dublin-Laurens County Library\, 801 Bellevue Avenue\, Dublin\, GA\, 31021\, United States
CATEGORIES:Arts and Culture,Entertainment,Family-friendly,St Patrick's Day
ATTACH;FMTTYPE=image/png:https://visitdublinga.org/wp-content/uploads/2025/03/FanCon-2024.png
GEO:32.5377907;-82.9163239
X-APPLE-STRUCTURED-LOCATION;VALUE=URI;X-ADDRESS=Dublin-Laurens County Library 801 Bellevue Avenue Dublin GA 31021 United States;X-APPLE-RADIUS=500;X-TITLE=801 Bellevue Avenue:geo:-82.9163239,32.5377907
END:VEVENT
END:VCALENDAR