BEGIN:VCALENDAR
VERSION:2.0
PRODID:-//Visit Dublin Georgia - ECPv6.15.20//NONSGML v1.0//EN
CALSCALE:GREGORIAN
METHOD:PUBLISH
X-ORIGINAL-URL:https://visitdublinga.org
X-WR-CALDESC:Events for Visit Dublin Georgia
REFRESH-INTERVAL;VALUE=DURATION:PT1H
X-Robots-Tag:noindex
X-PUBLISHED-TTL:PT1H
BEGIN:VTIMEZONE
TZID:America/New_York
BEGIN:DAYLIGHT
TZOFFSETFROM:-0500
TZOFFSETTO:-0400
TZNAME:EDT
DTSTART:20240310T070000
END:DAYLIGHT
BEGIN:STANDARD
TZOFFSETFROM:-0400
TZOFFSETTO:-0500
TZNAME:EST
DTSTART:20241103T060000
END:STANDARD
BEGIN:DAYLIGHT
TZOFFSETFROM:-0500
TZOFFSETTO:-0400
TZNAME:EDT
DTSTART:20250309T070000
END:DAYLIGHT
BEGIN:STANDARD
TZOFFSETFROM:-0400
TZOFFSETTO:-0500
TZNAME:EST
DTSTART:20251102T060000
END:STANDARD
BEGIN:DAYLIGHT
TZOFFSETFROM:-0500
TZOFFSETTO:-0400
TZNAME:EDT
DTSTART:20260308T070000
END:DAYLIGHT
BEGIN:STANDARD
TZOFFSETFROM:-0400
TZOFFSETTO:-0500
TZNAME:EST
DTSTART:20261101T060000
END:STANDARD
BEGIN:DAYLIGHT
TZOFFSETFROM:-0500
TZOFFSETTO:-0400
TZNAME:EDT
DTSTART:20270314T070000
END:DAYLIGHT
BEGIN:STANDARD
TZOFFSETFROM:-0400
TZOFFSETTO:-0500
TZNAME:EST
DTSTART:20271107T060000
END:STANDARD
END:VTIMEZONE
BEGIN:VEVENT
DTSTART;TZID=America/New_York:20251228T180000
DTEND;TZID=America/New_York:20251228T220000
DTSTAMP:20260421T220613
CREATED:20251226T101504Z
LAST-MODIFIED:20251226T170844Z
UID:10018960-1766944800-1766959200@visitdublinga.org
SUMMARY:Brookdale Drive Christmas Light Display
DESCRIPTION:Your backdrop to the Christmas season sparkles each night at the Brookdale Drive Christmas Lights Display. Lighting up the night\, the display shines from November 28th\, 2025 through January 1st\, 2026\, 6 PM until 10 PM! \nStart The Sparkle\nFor nearly a decade\, this homegrown Christmas lights display has been lighting up the season and shining bright since 2016! Stroll through a sparkling\, candy-cane-lined trail that winds through a yard transformed into a glowing Christmas wonderland. A luminous archway welcomes you at the entrance\, opening into a magical scene filled with whimsical touches. Reindeer soar overhead between towering pines\, while dazzling angels and classic Christmas characters keep watch over the night. Illuminated snowmen\, Santas\, elves\, and glowing animals fill every corner\, and a ladder-climbing elf adds a playful surprise. The house is lined in flashing sparkles from roofline to windows\, anchoring the entire display with Christmas brilliance. \nAn outdoor movie screen plays Christmas classics throughout the evening\, creating the perfect cozy stop\, and bring your own camera to capture your own family memories! \nChristmas Housekeeping\n\nPlease walk only and stay on the designated lighted trail.\nDo not drive into the driveway – roadside parking only.\nIn cases of inclement weather\, the lights may be turned off for safety.\nFor updates\, check their Facebook page for any schedule changes or weather adjustments.\nThis is someone’s home – please have respect for the family and neighbors\nMost of all…feel the season’s glow!\n\nFor all the info and details on more holiday events in Dublin GA\, follow Visit Dublin GA on Facebook or sign up for our newsletter!
URL:https://visitdublinga.org/event/brookdale-drive-christmas-light-display/2025-12-28/
LOCATION:Brookdale Drive Christmas Lights Display\, 505 Brookdale Drive\, Dublin\, GA\, 31021\, United States
CATEGORIES:Christmas,Family-friendly,Holiday
ATTACH;FMTTYPE=image/png:https://visitdublinga.org/wp-content/uploads/2025/11/IMG_1975-2-scaled.png
END:VEVENT
BEGIN:VEVENT
DTSTART;TZID=America/New_York:20251231T190000
DTEND;TZID=America/New_York:20260101T003000
DTSTAMP:20260421T220613
CREATED:20251219T130008Z
LAST-MODIFIED:20251219T174354Z
UID:10008351-1767207600-1767227400@visitdublinga.org
SUMMARY:New Years Eve Shamrock Drop
DESCRIPTION:Ring in the New Year with friends old and new in Downtown Dublin GA during New Year’s Eve Shamrock Drop! Admission is free\, and all ages are welcome when Downtown Dublin GA hosts 2025’s farewell street party December 31st\, 7 PM until 12:30 AM \nA New Year Tradition\nBe awed as a brilliantly lit shamrock descends from behind the historic Theatre Dublin at midnight! Bring a lawn chair or blanket to set your family up in the theatre parking lot. Live music will have you dancing under the stars from 7 PM right into the New Year in Downtown Dublin GA. \nNYE is a night of indulgence\, and food truck options will be onsite to guide you on a culinary journey to bid farewell to the old year! \nUsher in 2026\, Dublin-style! Years ago\, it was a beloved tradition to gather in front of Laurens County’s oldest bank\, Farmers and Merchants Bank\, on New Year’s Eve to watch the clock strike midnight. Though the original bank that once stood on Jackson Street and is long gone\, the Downtown Dublin Development Authority revived the celebration with the New Year’s Eve Shamrock Drop\, transforming Madison Street behind Theatre Dublin into a full-on street party as the countdown begins! \nToast to The Stars\nCelebrate New Year’s Eve with live performances by Georgia Chryslers (7:30 PM to 9:30 PM) 47 By Crow (10 PM to midnight) and as the brightly lit shamrock descends to count down the clock and ring in the new year with a bubbly toast. The party kicks off early in the theatre parking lot with music\, so bring your lawn chairs and coolers and enjoy the festivities. The official celebration takes place ​from 7 PM ​until 12:30 AM. \nThere’s more than one way to jam out into the new year! Join the Silent Disco Corral courtesy of Visit Dublin GA\, Company Supply\, and Crooked Finger Brewing. With three different stations to groove to\, the fun doesn’t stop! \nPlanning to party late? Find the perfect place to sleep in Dublin GA HERE. \nGet the party started pre-celebration with some suds and a few family friendly games at Crooked Finger Brewing\, just a short walk from the drop.
URL:https://visitdublinga.org/event/new-years-eve-shamrock-drop/
LOCATION:Downtown Dublin\, 314 Academy Avenue\, Dublin\, GA\, 31021\, United States
CATEGORIES:Family-friendly,Holiday,Music,Outdoor
ATTACH;FMTTYPE=image/jpeg:https://visitdublinga.org/wp-content/uploads/2025/07/VisitDublinNYE2023-3.jpeg
ORGANIZER;CN="Downtown Development Authority":MAILTO:info@dtdublin.com
GEO:32.5382957;-82.9078839
X-APPLE-STRUCTURED-LOCATION;VALUE=URI;X-ADDRESS=Downtown Dublin 314 Academy Avenue Dublin GA 31021 United States;X-APPLE-RADIUS=500;X-TITLE=314 Academy Avenue:geo:-82.9078839,32.5382957
END:VEVENT
BEGIN:VEVENT
DTSTART;VALUE=DATE:20260212
DTEND;VALUE=DATE:20260318
DTSTAMP:20260421T220613
CREATED:20260108T134308Z
LAST-MODIFIED:20260108T191416Z
UID:10008382-1770854400-1773791999@visitdublinga.org
SUMMARY:Green up for St. Patrick's Day!
DESCRIPTION:Dublin GA knows how to show off that St. Patrick’s pride! Residents\, festoon your car\, your home\, or anything that will stand still during Green Up For St. Patrick’s to paint the town green as the St. Patrick’s Festival revs up! Get your official St. Patrick’s bows and let that Irish pride shine. \nWearing o’ the green\nFrom mailboxes to banisters\, add a bow or twenty for a little or a lot of Irish cheer. Color Dublin GA with all the charm of St. Patrick’s festivity. Pick up your order or have it delivered. Your purchase helps make a difference in a child’s life! \nMedium and large bows are available for $15 and $20. Special sizes\, specialty bows\, and large orders are available upon request! \nOrder bows by filling out the form HERE! \nPick up your bows at TLC Casa located at 1347 North Jefferson Street Monday through Friday from 9 AM to 5 PM or at Plum Alley located at 2032 Veterans Blvd Suite D. Bows are available beginning February 12th through March 17th. \nFor more Green Up information\, contact Marie Townsend at 478-275-8100 ext. 2 or casatownsend@gmail.com. \nStay Green & Golden\nWe keep the green up at the Dublin Visitors Center all year long. Do a jig right through the doors Monday through Friday from 9 AM to 5 PM and Saturday and Sunday from 10 AM to 4 PM\, for a fine selection of St. Patrick’s swag guaranteed to keep you in the green! \nFor information on more Dublin St. Patrick’s Festival events\, visit dublinstpatricks.com.
URL:https://visitdublinga.org/event/green-up-for-st-patricks-day/
LOCATION:GA
CATEGORIES:Holiday,Spring,St Patrick's Day
ATTACH;FMTTYPE=image/jpeg:https://visitdublinga.org/wp-content/uploads/2025/12/IMG_8867-scaled.jpeg
END:VEVENT
BEGIN:VEVENT
DTSTART;TZID=America/New_York:20260228T180000
DTEND;TZID=America/New_York:20260228T220000
DTSTAMP:20260421T220613
CREATED:20260123T133925Z
LAST-MODIFIED:20260126T183227Z
UID:10008410-1772301600-1772316000@visitdublinga.org
SUMMARY:St. Patricks Gala
DESCRIPTION:Celebrate St. Patrick’s in style at the 61st St. Patrick’s Gala on Saturday\, February 28th starting at 6 PM at The Colemoor Estate. Prepare to be swept off your feet as you dance the night away at this unforgettable event. \nSt. Patrick’s Gala\nDon your snazziest cocktail attire and get ready to groove! The dance floor will come alive as you jig to live tunes from the sensational Eight Track Flashback throughout the evening. \nIndulge your taste buds with a tempting array of heavy hors d’oeuvres\, featuring delightful charcuterie\, delectable desserts\, and an assortment of culinary delights. Quench your thirst at the wine and beer cash bar when you redeem your one free drink ticket included with admission. Bring some extra green to keep the spirits flowing at the cash bar. \nTickets\nEvent for 21 and older ONLY! \nAdmission to the St. Patricks Gala is also included with Order of Shillelagh & Blarney Stone Memberships. Whirl\, twirl\, and strut over to this LINK to purchase individual tickets before for guaranteed entry. Show your St. Patrick’s pride by becoming a Patron Member to receive 2 Gala tickets and your name on an Official Dublin Laurens St. Patrick’s Festival sponsorship banner when you register before February 1st. \nSponsored by Dublin-Laurens St. Patrick’s Festival Committee\, the St. Patrick’s Gala is one of over 30 events sure to put a smile in your eye and a skip in your step. For all the Dublin St. Patrick’s Festival events\, click HERE.
URL:https://visitdublinga.org/event/st-patricks-gala/
LOCATION:The Colemoor Estate\, 1827 GA-19\, Dublin\, 31021\, United States
CATEGORIES:Food,Holiday,Music,St Patrick's Day
ATTACH;FMTTYPE=image/jpeg:https://visitdublinga.org/wp-content/uploads/2024/01/20240302_205758-scaled.jpg
ORGANIZER;CN="St. Patrick's Festival":MAILTO:dublinstpats@gmail.com
END:VEVENT
BEGIN:VEVENT
DTSTART;TZID=America/New_York:20260321T103000
DTEND;TZID=America/New_York:20260321T120000
DTSTAMP:20260421T220613
CREATED:20260227T131955Z
LAST-MODIFIED:20260301T185059Z
UID:10004451-1774089000-1774094400@visitdublinga.org
SUMMARY:Easter Egg Hunt at Southern Pines
DESCRIPTION:How does Dublin GA do Easter? With an Easter Egg Hunt! Hop into the Easter spirit with the most egg-citing spring event as 15\,000 fun-filled eggs are spread across a huge field when the biggest Easter Egg hunt around hits Dublin on Saturday\, March 21st starting at 10:30 AM at Southern Pines Regional Park.  \nEgg-stravaganza\nDublin’s Easter Egg Hunt is a free must-join event for kids of all ages (yes\, even the grown-up ones!). The air fills with squeals of wonder as thousands of candy stuffed Easter eggs dot the the multi-purpose field in the park. It’s a scramble like no other as little ones dash to scoop up their colorful treasures. \nTwo separate hunts will take place\, so there’s plenty of fun for all! The first hunt for little bunnies under 4 years old is at 10:30 AM\, and ages 4 through 10 get in on the action at 11 AM. \nCapture precious family moments with pictures with the hippest hopper in town\, the Easter Bunny! Warm up with hot drinks and get hyped up with sweet treats available for purchase at the concessions stand. \nSouthern Pines Recreation Complex\nSponsored by Dublin-Laurens Recreation Authority\, the Easter Egg Hunt is the perfect time to explore Southern Pines Regional Park. Located 1.9 miles off Exit 51 on I-16\, Southern Pines’ Regional Park has fun for the whole family! Visit this beautifully landscaped 120-acre facility\, featuring a water park\, Ag and Expo Center with arena for animal shows and rodeos\, baseball/softball fields\, soccer fields\, walking trails\, pickleball courts\, meeting space and picnic areas. \nFor more information\, call 478-277-5060 or visit dlcra.org.
URL:https://visitdublinga.org/event/easter-egg-drop/
LOCATION:Southern Pines Regional Park\, 575 Southern Pines Road\, Dublin\, GA\, 31021\, United States
CATEGORIES:Family-friendly,Holiday,Outdoor,Spring
ATTACH;FMTTYPE=image/jpeg:https://visitdublinga.org/wp-content/uploads/2025/01/VisitDublinEggHunt2024-15.jpeg
GEO:32.4902132;-82.9197317
X-APPLE-STRUCTURED-LOCATION;VALUE=URI;X-ADDRESS=Southern Pines Regional Park 575 Southern Pines Road Dublin GA 31021 United States;X-APPLE-RADIUS=500;X-TITLE=575 Southern Pines Road:geo:-82.9197317,32.4902132
END:VEVENT
BEGIN:VEVENT
DTSTART;TZID=America/New_York:20260613T100000
DTEND;TZID=America/New_York:20260613T110000
DTSTAMP:20260421T220613
CREATED:20260414T153537Z
LAST-MODIFIED:20260414T160151Z
UID:10019451-1781344800-1781348400@visitdublinga.org
SUMMARY:Patriotic Parade Bike\, Trike & Stroll
DESCRIPTION:Flag Day weekend brings a new tradition to Downtown Dublin Saturday\, June 13th with the Patriotic Parade: Bike\, Trike & Stroll\, a festive morning centered around family\, community\, and a wheely red\, white\, and blue celebration. \nFlag Day Family Fun\nBeginning at 10 AM children and parents\, and friends in-between will line up at Market on Madison with their decorated bikes\, trikes\, and strollers before making their way from Market On Madison down Madison Street. Patriotic flair is encouraged\, with streamers\, flags\, and plenty of creativity adding to the spirit of the parade\, marking the first official parade held on Madison Street! \nLending to the sweet almost summertime vibes\, this event coincides with the beloved seasonal Saturday Downtown Dublin Farmers Market day\, where local vendors offer fresh produce\, handmade goods\, and a variety of food options. The market atmosphere blends seamlessly with the parade\, creating a lively downtown experience filled with activity and hometown pride.\nThroughout the morning\, families can enjoy thoughtful touches like a miniature American flag giveaway\, festive decorations\, and a classic summertime favorite\, FREE ICE CREAM…all adding to the celebratory feel of the day. \nThe Patriotic Parade: Bike\, Trike & Stroll captures the charm of  southern Dublin while creating an classic Americana way to celebrate Flag Day weekend. With its blend of tradition\, creativity\, and community connection\, the event offers a memorable ready\, seat\, GO to a spring weekend. \nFor all the info and details on more events in Dublin GA\, follow Visit Dublin GA on Facebook or sign up for our newsletter!
URL:https://visitdublinga.org/event/patriotic-parade-bike-trike-stroll/
LOCATION:Market on Madison\, 314 West Madison Street\, Dublin\, GA\, United States
CATEGORIES:Family-friendly,Holiday,Outdoor
ATTACH;FMTTYPE=image/jpeg:https://visitdublinga.org/wp-content/uploads/2026/04/GaTandemBikeRally-9.jpeg
ORGANIZER;CN="Downtown Development Authority":MAILTO:info@dtdublin.com
GEO:32.5372319;-82.9071485
X-APPLE-STRUCTURED-LOCATION;VALUE=URI;X-ADDRESS=Market on Madison 314 West Madison Street Dublin GA United States;X-APPLE-RADIUS=500;X-TITLE=314 West Madison Street:geo:-82.9071485,32.5372319
END:VEVENT
BEGIN:VEVENT
DTSTART;TZID=America/New_York:20260703T210000
DTEND;TZID=America/New_York:20260703T220000
DTSTAMP:20260421T220613
CREATED:20260209T130828Z
LAST-MODIFIED:20260209T153438Z
UID:10004478-1783112400-1783116000@visitdublinga.org
SUMMARY:Independence Day Celebration 🎆
DESCRIPTION:Let freedom ring with an Independence Day Celebration on Friday\, July 3rd at Southern Pines Regional Park in Dublin GA with a splash of family fun and a blast of a breathtaking fireworks display at dark. \nHave A Blast\nOoh and Aah at the splendor of the night sky being lit up as we stand united to celebrate America’s Birthday minutes off I-16 at exit 51! Not up for standing? Be sure to bring your chairs and blankets and find the perfect spot for the explosion of color in the night sky. The fireworks show lights up the night sky at dark (around 9 PM). \nTake A Splash\nCool down and make a splash all day at the Southern Pines Water Park! Frolic in buckets of refreshing water\, take a lazy day on the winding river\, or slip slide the day away! Open to the public 9 AM until closing time at 8 PM\, admission is only $12 per person for a whole day of fun! \nSouthern Pines Recreational Park\nLocated minutes off I-16 at exit 51\, Southern Pines Regional Park in Dublin\, GA offers a world full of free outdoor fun for the whole family. Set your fitness goals at Southern Pines! Mark the mile with 4.3 laps at the nature trail or track your trek with 2.9 laps around the pond! Run\, run\, run for fun across the wide open spaces\, or plan your pick-up game on the field. Splash around the water park Memorial Day to Labor Day! \nFor more information\, call 478-277-5060 or visit dlcra.org
URL:https://visitdublinga.org/event/independence-day-celebration/
LOCATION:Southern Pines Regional Park\, 575 Southern Pines Road\, Dublin\, GA\, 31021\, United States
CATEGORIES:Fairs & Festivals,Family-friendly,Food,Holiday,Music,Outdoor
ATTACH;FMTTYPE=image/jpeg:https://visitdublinga.org/wp-content/uploads/2025/06/VisitDublinJuly1-29.jpeg
GEO:32.4902132;-82.9197317
X-APPLE-STRUCTURED-LOCATION;VALUE=URI;X-ADDRESS=Southern Pines Regional Park 575 Southern Pines Road Dublin GA 31021 United States;X-APPLE-RADIUS=500;X-TITLE=575 Southern Pines Road:geo:-82.9197317,32.4902132
END:VEVENT
END:VCALENDAR