BEGIN:VCALENDAR
VERSION:2.0
PRODID:-//Visit Dublin Georgia - ECPv6.15.20//NONSGML v1.0//EN
CALSCALE:GREGORIAN
METHOD:PUBLISH
X-WR-CALNAME:Visit Dublin Georgia
X-ORIGINAL-URL:https://visitdublinga.org
X-WR-CALDESC:Events for Visit Dublin Georgia
REFRESH-INTERVAL;VALUE=DURATION:PT1H
X-Robots-Tag:noindex
X-PUBLISHED-TTL:PT1H
BEGIN:VTIMEZONE
TZID:America/New_York
BEGIN:DAYLIGHT
TZOFFSETFROM:-0500
TZOFFSETTO:-0400
TZNAME:EDT
DTSTART:20250309T070000
END:DAYLIGHT
BEGIN:STANDARD
TZOFFSETFROM:-0400
TZOFFSETTO:-0500
TZNAME:EST
DTSTART:20251102T060000
END:STANDARD
BEGIN:DAYLIGHT
TZOFFSETFROM:-0500
TZOFFSETTO:-0400
TZNAME:EDT
DTSTART:20260308T070000
END:DAYLIGHT
BEGIN:STANDARD
TZOFFSETFROM:-0400
TZOFFSETTO:-0500
TZNAME:EST
DTSTART:20261101T060000
END:STANDARD
BEGIN:DAYLIGHT
TZOFFSETFROM:-0500
TZOFFSETTO:-0400
TZNAME:EDT
DTSTART:20270314T070000
END:DAYLIGHT
BEGIN:STANDARD
TZOFFSETFROM:-0400
TZOFFSETTO:-0500
TZNAME:EST
DTSTART:20271107T060000
END:STANDARD
END:VTIMEZONE
BEGIN:VEVENT
DTSTART;TZID=America/New_York:20260716T190000
DTEND;TZID=America/New_York:20260716T210000
DTSTAMP:20260421T001956
CREATED:20260116T125452Z
LAST-MODIFIED:20260116T154002Z
UID:10018720-1784228400-1784235600@visitdublinga.org
SUMMARY:Dublin Community Theatre 🎭
DESCRIPTION:From Broadway Classics to fun-loving\, family friendly shows\, Dublin Community Theatre lights up the Theatre Dublin stage throughout the year. \n2026 Season\nAnnie\nDetermined to find her parents\, little orphan Annie escapes from Miss Hannigan’s orphanage into 1930s New York City\, where she charms her way into the heart of billionaire Oliver Warbucks. \nDates & Showtimes \n– Thursday\, April 23rd\, 2026 @ 7 PM\n– Friday\, April 24th\, 2026 @ 7 PM\n– Saturday\, April 25th\, 2026 @ 2 PM & 7 PM\n \nTickets are $20 for General Seating and $25 for VIP Seating. Purchase tickets HERE. \nGrease\nGrease follows the romance of greaser Danny Zuko and good girl Sandy Olsson as it is tested by the social expectations of 1950s high school cliques. \nDates & Showtimes \n– Thursday\, July 16th\, 2026 @ 7 PM\n– Friday\, July 17th\, 2026 @ 7 PM\n– Saturday\, July 18th\, 2026 Time TBA\n– Sunday\, July 19th\, 2026 Time TBA \nDublin Community Theatre\nEstablished by the Downtown Dublin Development Authority in Spring of 2023\, the Dublin Community Theatre’s focus is to create an opportunity for individuals of all ages and backgrounds to participate in productions. Whether someone is a seasoned actor\, a first time performer or a backstage tech\, everyone is welcome to join. \nTheatre Dublin\n\nBuilt in 1934 and renovated in 1996\, Theatre Dublin serves as a performing arts center for Dublin‐Laurens County and surrounding areas. Theatre Dublin can accommodate over 600 people and has state‐of‐the‐art sound and lighting equipment. The theatre is owned by the City of Dublin and managed by the Dublin Downtown Development Authority. It is used primarily for live productions with special showings of movies throughout the year as well. \nHave questions about Theatre Dublin? Interested in being part of the Dublin Community Theatre? Please contact 478-272-2560 or email info@dtdublin.com.
URL:https://visitdublinga.org/event/dublin-community-theatre/2026-07-16/
LOCATION:Theatre Dublin\, 314 Academy Avenue\, Dublin\, GA\, United States
CATEGORIES:Arts and Culture,Entertainment,Family-friendly,Music,Summer
ATTACH;FMTTYPE=image/jpeg:https://visitdublinga.org/wp-content/uploads/2025/08/Charlie-Brown-Christmas--scaled.jpg
ORGANIZER;CN="Downtown Development Authority":MAILTO:info@dtdublin.com
GEO:32.5382957;-82.9078839
X-APPLE-STRUCTURED-LOCATION;VALUE=URI;X-ADDRESS=Theatre Dublin 314 Academy Avenue Dublin GA United States;X-APPLE-RADIUS=500;X-TITLE=314 Academy Avenue:geo:-82.9078839,32.5382957
END:VEVENT
BEGIN:VEVENT
DTSTART;TZID=America/New_York:20260801T100000
DTEND;TZID=America/New_York:20260801T113000
DTSTAMP:20260421T001956
CREATED:20260108T130008Z
LAST-MODIFIED:20260420T121817Z
UID:10019366-1785578400-1785583800@visitdublinga.org
SUMMARY:One Day: Dublin's Civil Rights Experience
DESCRIPTION:Relive a powerful chapter of Dublin’s legacy during One Day: Dublin’s Civil Rights Experience February 7th\, April 18th\, and August 1st at 10 AM\, a powerful reader’s theatre held in the very church where Dr. Martin Luther King Jr. gave his first public speech at age 15. \nStep back in time to 1944 in Georgia. \nJim Crow laws had a stronghold. The South stood divided\, not by borders\, but rather by color. Where you shopped\, how you traveled\, when you could speak\, what you ate\, and how you lived was determined by the color of your skin. \nOne fateful day in 1944\, a young man on edge came to Dublin\, Georgia where he gave a speech during a contest. His words stirred souls and he won the contest. From that high\, he loaded a bus\, proud and confident. Then came a moment that solidified his future: he was commanded to sit in the back of the bus. An ordinary moment. An ordinary bus. An ordinary command for its time. \nAn extraordinary boy. \nOne Day\nStep into the world of a young Martin Luther King\, Jr. Journey into the South in 1944 during One Day: Dublin’s Civil Rights Experience\, reader’s theatre where you are the actor. This living play chronicles the Civil Rights Movement\, capturing it through the lives and legacies of those who lived it. Dublin’s rich Civil Rights history is detailed\, including highlights of the speech King gave on that fateful day\, April 17\, 1944 when he was first asked to step to the back of the bus. Other highlights include a focus on Herbert “Hub” Dudley\, African American entrepreneur who built a business empire in Dublin. One of his many notable contributions: owning and operating the Dudley Motel\, Retreat\, and Amoco Service Station where Dr. King\, Andrew Young\, Maynard Jackson\, and other notable Civil Rights leaders met\, strategized\, and stayed as they travelled across the Southeast. \nYour Role\nGroups of all sizes are welcome. This experience is intended for all ages. There are reading role and nonspeaking roles. Everyone plays a part\, even if as a witness to the history as it unfolds. \nEach person will be given a role card\, detailing their part. \nThe reverse of the card gives a deeper history on a person\, place\, or event during the Civil Rights Movement. \nA leader will guide groups through the experience. \nThe experience is held inside Dublin\, Georgia’s historic First African Baptist Church where Martin Luther King\, Jr. gave his first public speech at the age of 15 on April 17\, 1944. A guided tour of the church is included\, and guided tour of MLK Monument Park can be requested. \nCost\n$8+ fees per person\, advance tickets only.  \nClick HERE to get tickets\, available now! Each attendee receives a special MLK souvenir during the event courtesy of Visit Dublin GA. \nEvery ticket purchased helps preserve history. All proceeds are collected and returned to First African Baptist Church to support the continued care and restoration of this historic site. No portion of ticket sales is retained by Visit Dublin GA. \n(Additional dates for groups can be arranged upon request. Special group rate $5 per person for groups 10 and more. For group reservations of 10 and more\, email info@visitdublinga.org) \nThe Story Grows\nContinue celebrating Dublin’s Civil Rights history by attending the MLK Jr. Oratorical Speech Contest each April\, where students honor Dr. King’s legacy through inspiring speeches. Learn more here.
URL:https://visitdublinga.org/event/one-day-dublins-civil-rights-experience/2026-08-01/
LOCATION:First African Baptist Church\, 405 Telfair Street\, Dublin\, GA\, 31021\, United States
CATEGORIES:Arts and Culture,Family-friendly,History
ATTACH;FMTTYPE=image/jpeg:https://visitdublinga.org/wp-content/uploads/2026/01/VisitDublinFirstABFeb7-27-scaled.jpg
ORGANIZER;CN="Visit Dublin GA":MAILTO:info@visitdublinga.org
GEO:32.5356375;-82.9074992
X-APPLE-STRUCTURED-LOCATION;VALUE=URI;X-ADDRESS=First African Baptist Church 405 Telfair Street Dublin GA 31021 United States;X-APPLE-RADIUS=500;X-TITLE=405 Telfair Street:geo:-82.9074992,32.5356375
END:VEVENT
BEGIN:VEVENT
DTSTART;TZID=America/New_York:20261016T160000
DTEND;TZID=America/New_York:20261016T210000
DTSTAMP:20260421T001956
CREATED:20260317T120402Z
LAST-MODIFIED:20260317T190249Z
UID:10019436-1792166400-1792184400@visitdublinga.org
SUMMARY:🚛  Shine in the Pines Truck and Car Show
DESCRIPTION:Roll the window down\, sit back\, and cruise on over to Dublin GA for the Annual Shine in the Pines Truck and Car Show. From station wagons to big rigs\, get ready\, get set\, and go see every make and model! Rev it into high gear\, spin those wheels\, and let the gravel fly on Friday\, October 16th at 4 PM and Saturday\, October 17th beginning at 12 PM. \n9th Annual Shine in the Pines Truck Show\nGet an up-close and personal look at the big rigs at the 9th Annual Shine in the Pines Truck Show at Southern Pines Regional Park\, located minutes off I-16 at exit 51 at 575 Southern Pines Road in Dublin GA. .  \nEntry is FREE to the public. Parking is $5. \nFriday\, October 16th \nA night all up in lights? What a sight! Shining headlights\, taillights\, and chicken lights all ablaze as participants light up their rigs and compete in the Light Show at dark on Friday\, October 16th. Didn’t make it the first night? The competition may be over\, but spectators will get another chance to witness this dazzling display during the second light show on Saturday\, October 17th.  \nSaturday\, October 17th \nGet things rolling with concessions\, merchants\, raffles\, silent auctions\, and door prizes. Bring the kiddos dressed as spooky creatures\, super heroes\, fairy princesses\, or anything fun for the kid’s costume contest at 6 PM. Entry is free. \nA Truck or Treat and Trunk or Treat follow immediately after. \n6th Annual Shine in the Pines Car Show\nLet the engine roar at Shine in the Pine’s 5th Annual Car Show held on Saturday\, October 17th alongside the 9th Annual Truck Show! Whether it’s a pristine 1969 Chevrolet Chevelle or a rundown jalopy on its last leg\, if it rolls\, it shows. Entry is $20. \nUp the fun with a Trunk or Treat held after the kid’s costume contest. \nRegistration\nTruck registration coming soon. Early birds can park their trucks as soon as Thursday\, October 15th. Pay when you register or pay at the event. All registered semis wanting to participate in Saturday’s Truck or Treat receive a FREE bag of candy (more available for purchase). \nCalling all vendors! Apply today by emailing annamccdaniel1@gmail.com or calling 912-339-3262. Vending fee is $50. \nFor additional information contact: Dakota McDaniel at (478) 455-0844\, Anna McDaniel at 912-339-3262 or email at annamccdaniel1@gmail.com\, or Joey Hadley at 478-299-9444.
URL:https://visitdublinga.org/event/shine-pines-truck-show/2026-10-16/
LOCATION:Southern Pines Regional Park\, 575 Southern Pines Road\, Dublin\, GA\, 31021\, United States
CATEGORIES:Fairs & Festivals,Family-friendly,Outdoor,Spring
ATTACH;FMTTYPE=image/jpeg:https://visitdublinga.org/wp-content/uploads/2023/11/ShineinthePines2023-5.jpeg
GEO:32.4902132;-82.9197317
X-APPLE-STRUCTURED-LOCATION;VALUE=URI;X-ADDRESS=Southern Pines Regional Park 575 Southern Pines Road Dublin GA 31021 United States;X-APPLE-RADIUS=500;X-TITLE=575 Southern Pines Road:geo:-82.9197317,32.4902132
END:VEVENT
BEGIN:VEVENT
DTSTART;TZID=America/New_York:20261106T173000
DTEND;TZID=America/New_York:20261106T213000
DTSTAMP:20260421T001956
CREATED:20260319T120855Z
LAST-MODIFIED:20260319T160844Z
UID:10019438-1793986200-1794000600@visitdublinga.org
SUMMARY:Easterseals Pro Rodeo 🐂
DESCRIPTION:Cowboys and cowgirls\, saddle up for Middle Georgia’s Annual Easterseals Pro Rodeo Friday\, November 6th and Saturday\, November 7th at Southern Pines Equestrian Center! Gates open at 5:30 PM\, and the rodeo events kick off at 7 PM! \nVoted one of the Top 3 indoor rodeos in the Southeast in 2021 by the Southeastern Pro Rodeo Association (SPRA)\, the Easterseals are excited to host an even better rodeo this year! \nDouble Creek Rodeo\, a member of the SPRA\, provides top quality stock and contestants in a professional\, fun and family environment. \n\nBareback Riding\nTeam Roping\nSteer Wrestling\nCalf Roping\nBreakaway Roping\nBarrel Racing\nBull Riding\n\nRustlin’ Up the Fun\nDig into some grub during Easterseals Pro Rodeo as the slew of local food vendors round up your rodeo experience. Find yourself with a free hand as the littles explore the kids activity corral. \nSpecial Entertainment to be announced. \nOut The Chute\nTicket Pricing to be announced! \nFor more information about the event\, being a sponsor\, or volunteering to help\, contact Elaina Powell at 478-275-8850 or email epowell@mges.us. \nEasterseals\nEasterseals serves 1.4 million children and adults with disabilities and their families\, offering a wide range of services at 74 affiliates nationwide. They change the way the world defines and views disability by making profound\, positive differences in people’s lives every day by helping their clients build the skills and access the resources they need to live\, learn\, work and play. \nSouthern Pines Equestrian Center\nLasso up fun at Southern Pines Equestrian Center. Constructed in 2007\, Southern Pines Agriculture and Exposition Center in Dublin\, Georgia is 60\,000 ft.² and located in the heart of 120-acre Southern Pines Regional Park. In 2016\, DLCRA installed a new phase of development to Southern Pines: a large equestrian center designed to serve the daily and overnight needs of equestrian enthusiasts. Featuring a new 240’ x 150’ warm up arena\, 17\,600 ft.² stable with 80 stalls\, 30 RV hook ups\, and 5 dump stations\, Southern Pines Equestrian Center is any horse enthusiast’s dream!
URL:https://visitdublinga.org/event/easterseals-pro-rodeo/2026-11-06/
LOCATION:Southern Pines Regional Park\, 575 Southern Pines Road\, Dublin\, GA\, 31021\, United States
CATEGORIES:Arts and Culture,Entertainment,Fall,Family-friendly,Food
ATTACH;FMTTYPE=image/jpeg:https://visitdublinga.org/wp-content/uploads/2024/08/VisitDublinEasterSealsRodeoOct20-21.jpeg
ORGANIZER;CN="Easterseals Middle Georgia":MAILTO:eastersealsmiddlega@mges.us
GEO:32.4902132;-82.9197317
X-APPLE-STRUCTURED-LOCATION;VALUE=URI;X-ADDRESS=Southern Pines Regional Park 575 Southern Pines Road Dublin GA 31021 United States;X-APPLE-RADIUS=500;X-TITLE=575 Southern Pines Road:geo:-82.9197317,32.4902132
END:VEVENT
END:VCALENDAR