BEGIN:VCALENDAR
VERSION:2.0
PRODID:-//Visit Dublin Georgia - ECPv6.15.20//NONSGML v1.0//EN
CALSCALE:GREGORIAN
METHOD:PUBLISH
X-WR-CALNAME:Visit Dublin Georgia
X-ORIGINAL-URL:https://visitdublinga.org
X-WR-CALDESC:Events for Visit Dublin Georgia
REFRESH-INTERVAL;VALUE=DURATION:PT1H
X-Robots-Tag:noindex
X-PUBLISHED-TTL:PT1H
BEGIN:VTIMEZONE
TZID:America/New_York
BEGIN:DAYLIGHT
TZOFFSETFROM:-0500
TZOFFSETTO:-0400
TZNAME:EDT
DTSTART:20180311T070000
END:DAYLIGHT
BEGIN:STANDARD
TZOFFSETFROM:-0400
TZOFFSETTO:-0500
TZNAME:EST
DTSTART:20181104T060000
END:STANDARD
BEGIN:DAYLIGHT
TZOFFSETFROM:-0500
TZOFFSETTO:-0400
TZNAME:EDT
DTSTART:20190310T070000
END:DAYLIGHT
BEGIN:STANDARD
TZOFFSETFROM:-0400
TZOFFSETTO:-0500
TZNAME:EST
DTSTART:20191103T060000
END:STANDARD
BEGIN:DAYLIGHT
TZOFFSETFROM:-0500
TZOFFSETTO:-0400
TZNAME:EDT
DTSTART:20200308T070000
END:DAYLIGHT
BEGIN:STANDARD
TZOFFSETFROM:-0400
TZOFFSETTO:-0500
TZNAME:EST
DTSTART:20201101T060000
END:STANDARD
BEGIN:DAYLIGHT
TZOFFSETFROM:-0500
TZOFFSETTO:-0400
TZNAME:EDT
DTSTART:20210314T070000
END:DAYLIGHT
BEGIN:STANDARD
TZOFFSETFROM:-0400
TZOFFSETTO:-0500
TZNAME:EST
DTSTART:20211107T060000
END:STANDARD
BEGIN:DAYLIGHT
TZOFFSETFROM:-0500
TZOFFSETTO:-0400
TZNAME:EDT
DTSTART:20220313T070000
END:DAYLIGHT
BEGIN:STANDARD
TZOFFSETFROM:-0400
TZOFFSETTO:-0500
TZNAME:EST
DTSTART:20221106T060000
END:STANDARD
END:VTIMEZONE
BEGIN:VEVENT
DTSTART;TZID=America/New_York:20210327T193000
DTEND;TZID=America/New_York:20210327T213000
DTSTAMP:20260421T100943
CREATED:20201214T181126Z
LAST-MODIFIED:20201214T181126Z
UID:10004493-1616873400-1616880600@visitdublinga.org
SUMMARY:Chloe Agnew Live in Concert
DESCRIPTION:Irish eyes will surely be shining and Irish eyes a’smiling during internationally acclaimed Chloe Agnew Live in Concert Saturday\, March 27th at 7:30 PM at Theatre Dublin! \nThe Artist\nChloë Agnew is a singer\, songwriter and actress from Dublin\, Ireland. From the age of 14\, Chloë gained fame for her integral part as one of the original (and youngest) members of the internationally acclaimed music group Celtic Woman.  Ten years later\, Chloë held the dual title of being both one of the original members and the youngest performer of the group. At the age of 24\, she was already a musical veteran and after an illustrious career with the famous ensemble; she embarked on a solo career that has seen her perform all over the world.  Chloe Agnew performed at the prestigious Ryman Auditorium in Nashville and collaborated with Emmy award-winning tenor Eamonn McCrystal on his album And So It Goes in a duet with the legendary Rita Wilson. She is featured in several television shows that are currently airing on PBS including The Power of Music with Ethan Bortnick and Damian McGinty (Glee Project/Celtic Thunder)\, and the Nathan Carter Celtic Country show. Chloe Agnew has been touring with top Irish artist Nathan Carter since 2017 and is the headline act for the award-winning Atlanta Pops Orchestra on its National US tours. \nDublin-Laurens Arts Council\nDublin-Laurens Arts Council is a nonprofit organization devoted to bringing quality musical performances to Laurens County. Annual individual memberships are available for $50 and include one ticket each performance sponsored by the Arts Council. Individual tickets are available for $25. Because of member generosity and interest in bringing world-class artists and musicians\, including Atlanta Pops here to the community\, the Arts Council is able to offer memberships at an affordable rate\, and admit all students to all concerts at no charge. \nFor more information on the Dublin-Laurens Arts Council\, visit Dublin-Laurens Arts Council
URL:https://visitdublinga.org/event/chloe-agnew-live-in-concert/
LOCATION:Theatre Dublin\, 314 Academy Avenue\, Dublin\, GA\, United States
CATEGORIES:Arts and Culture,Family-friendly,Music,Spring,St Patrick's Day
ATTACH;FMTTYPE=image/jpeg:https://visitdublinga.org/wp-content/uploads/2023/11/255776_906619.jpeg
GEO:32.5382957;-82.9078839
X-APPLE-STRUCTURED-LOCATION;VALUE=URI;X-ADDRESS=Theatre Dublin 314 Academy Avenue Dublin GA United States;X-APPLE-RADIUS=500;X-TITLE=314 Academy Avenue:geo:-82.9078839,32.5382957
END:VEVENT
BEGIN:VEVENT
DTSTART;TZID=America/New_York:20200114T193000
DTEND;TZID=America/New_York:20200114T213000
DTSTAMP:20260421T100944
CREATED:20190726T161018Z
LAST-MODIFIED:20231130T203422Z
UID:10004338-1579030200-1579037400@visitdublinga.org
SUMMARY:Atlanta Opera Presents Hansel and Gretel
DESCRIPTION:Downtown Dublin comes alive with the vivid sounds of an abridged version of Hansel and Gretel during a live performance by the Atlanta Opera in historic Theatre Dublin. Perfect for young children and children of all ages\, this abridged version of a operatic favorite combines trickery\, wishes\, love and lots of laughter!  \nHansel And Gretel\nTo celebrate its 40th year on the road\, the 2019-2020 season features a new adaptation of Humperdinck’s enchanting fairytale Hansel and Gretel where students are invited to take centerstage alongside Atlanta Opera artists. Suitable for all ages\, this Hansel and Gretel teaches valuable lessons about being polite\, making friends\, and not judging a Witch by her wardrobe. \nAtlanta Opera Workshop\nKnown throughout the region and across the nation\, the Atlanta Opera has helped foster young talent internationally. Their educational workshop series aims to spread a love for opera to children by presenting shorter versions of classic tales\, while giving singers\, directors\, and performers an opportunity to hone their skills. \nDesigned to travel\, The Atlanta Opera Studio Tour productions are presented in schools and community venues across the state of Georgia each season. Educators are provided with comprehensive Study Guides which feature cross-curricular lesson plans and activities corresponding to the Georgia Standards of Excellence. \nTickets\nEvening performance tickets for Hansel and Gretel are $20 at Theatre Dublin’s box office Monday-Friday from 9 AM to 5 PM or two hours prior to show time. Season tickets are $50 at the box office and include one ticket admission to all Dublin-Laurens Arts Council (DLAC) performances during the 2019-2020 season in addition to a 2019-2020 membership in DLAC. All students have free admission. \nConcessions will be available for purchase\, and all proceeds from concession sales benefit future programming at Theatre Dublin. For additional performances scheduled at Theatre Dublin\, visit http://theatredublinga.com \nDublin-Laurens Arts Council\nDublin-Laurens Arts Council is a nonprofit organization devoted to bringing quality musical performances to Laurens County. Annual memberships are available for $50 and include tickets to each performance sponsored by the Arts Council. \nFor more information on the Dublin-Laurens Arts Council\, visit http://www.dublin-laurensartscouncil.org/
URL:https://visitdublinga.org/event/atlanta-opera-presents-hansel-and-gretel/2020-01-14/2/
LOCATION:Theatre Dublin\, 314 Academy Avenue\, Dublin\, GA\, United States
CATEGORIES:Arts and Culture,Family-friendly,Music
ATTACH;FMTTYPE=image/jpeg:https://visitdublinga.org/wp-content/uploads/2023/11/exibid_PR-11-HanselLR.jpg
GEO:32.5382957;-82.9078839
X-APPLE-STRUCTURED-LOCATION;VALUE=URI;X-ADDRESS=Theatre Dublin 314 Academy Avenue Dublin GA United States;X-APPLE-RADIUS=500;X-TITLE=314 Academy Avenue:geo:-82.9078839,32.5382957
END:VEVENT
BEGIN:VEVENT
DTSTART;TZID=America/New_York:20190224T150000
DTEND;TZID=America/New_York:20190224T170000
DTSTAMP:20260421T100944
CREATED:20180823T225149Z
LAST-MODIFIED:20180823T225149Z
UID:10004489-1551020400-1551027600@visitdublinga.org
SUMMARY:Morehouse College Glee Club
DESCRIPTION:Voices raise and spirits soar in unison as the Morehouse College Glee Club delivers a sensational performance at Theatre Dublin Sunday\, February 24th at 3 PM! \nThe Club\nThe Morehouse College Glee Club\, founded in 1911 is the official singing organization of Morehouse College\, on call to serve the college’s president throughout the year. Its members have earned such honors as the Merrill Travel Study Award for overseas experience\, a listing in Who’s Who among American Colleges and Universities\, and membership in Phi Beta Kappa. All receive no academic credit but sing as a labor of love. Their majors include all offered by the college\, and they come from homes encompassing the U.S.\, Africa\, and the Caribbean. \nDublin-Laurens Arts Council\nDublin-Laurens Arts Council is a nonprofit organization devoted to bringing quality musical performances to Laurens County. Annual memberships are available for $50 and include tickets to each performance sponsored by the Arts Council. \nFor more information on the Dublin-Laurens Arts Council\, visit http://www.dublin-laurensartscouncil.org/ \nFor more information and tickets\, please visit http://theatredublinga.com
URL:https://visitdublinga.org/event/morehouse-college-glee-club/
LOCATION:Theatre Dublin\, 314 Academy Avenue\, Dublin\, GA\, United States
CATEGORIES:Arts and Culture,Family-friendly,Music
ATTACH;FMTTYPE=image/jpeg:https://visitdublinga.org/wp-content/uploads/2023/11/thumb7.jpg
GEO:32.5382957;-82.9078839
X-APPLE-STRUCTURED-LOCATION;VALUE=URI;X-ADDRESS=Theatre Dublin 314 Academy Avenue Dublin GA United States;X-APPLE-RADIUS=500;X-TITLE=314 Academy Avenue:geo:-82.9078839,32.5382957
END:VEVENT
END:VCALENDAR