BEGIN:VCALENDAR
VERSION:2.0
PRODID:-//Visit Dublin Georgia - ECPv6.15.20//NONSGML v1.0//EN
CALSCALE:GREGORIAN
METHOD:PUBLISH
X-ORIGINAL-URL:https://visitdublinga.org
X-WR-CALDESC:Events for Visit Dublin Georgia
REFRESH-INTERVAL;VALUE=DURATION:PT1H
X-Robots-Tag:noindex
X-PUBLISHED-TTL:PT1H
BEGIN:VTIMEZONE
TZID:America/New_York
BEGIN:DAYLIGHT
TZOFFSETFROM:-0500
TZOFFSETTO:-0400
TZNAME:EDT
DTSTART:20250309T070000
END:DAYLIGHT
BEGIN:STANDARD
TZOFFSETFROM:-0400
TZOFFSETTO:-0500
TZNAME:EST
DTSTART:20251102T060000
END:STANDARD
BEGIN:DAYLIGHT
TZOFFSETFROM:-0500
TZOFFSETTO:-0400
TZNAME:EDT
DTSTART:20260308T070000
END:DAYLIGHT
BEGIN:STANDARD
TZOFFSETFROM:-0400
TZOFFSETTO:-0500
TZNAME:EST
DTSTART:20261101T060000
END:STANDARD
BEGIN:DAYLIGHT
TZOFFSETFROM:-0500
TZOFFSETTO:-0400
TZNAME:EDT
DTSTART:20270314T070000
END:DAYLIGHT
BEGIN:STANDARD
TZOFFSETFROM:-0400
TZOFFSETTO:-0500
TZNAME:EST
DTSTART:20271107T060000
END:STANDARD
END:VTIMEZONE
BEGIN:VEVENT
DTSTART;TZID=America/New_York:20260101T180000
DTEND;TZID=America/New_York:20260101T220000
DTSTAMP:20260421T212338
CREATED:20251226T101504Z
LAST-MODIFIED:20251226T170844Z
UID:10019335-1767290400-1767304800@visitdublinga.org
SUMMARY:Brookdale Drive Christmas Light Display
DESCRIPTION:Your backdrop to the Christmas season sparkles each night at the Brookdale Drive Christmas Lights Display. Lighting up the night\, the display shines from November 28th\, 2025 through January 1st\, 2026\, 6 PM until 10 PM! \nStart The Sparkle\nFor nearly a decade\, this homegrown Christmas lights display has been lighting up the season and shining bright since 2016! Stroll through a sparkling\, candy-cane-lined trail that winds through a yard transformed into a glowing Christmas wonderland. A luminous archway welcomes you at the entrance\, opening into a magical scene filled with whimsical touches. Reindeer soar overhead between towering pines\, while dazzling angels and classic Christmas characters keep watch over the night. Illuminated snowmen\, Santas\, elves\, and glowing animals fill every corner\, and a ladder-climbing elf adds a playful surprise. The house is lined in flashing sparkles from roofline to windows\, anchoring the entire display with Christmas brilliance. \nAn outdoor movie screen plays Christmas classics throughout the evening\, creating the perfect cozy stop\, and bring your own camera to capture your own family memories! \nChristmas Housekeeping\n\nPlease walk only and stay on the designated lighted trail.\nDo not drive into the driveway – roadside parking only.\nIn cases of inclement weather\, the lights may be turned off for safety.\nFor updates\, check their Facebook page for any schedule changes or weather adjustments.\nThis is someone’s home – please have respect for the family and neighbors\nMost of all…feel the season’s glow!\n\nFor all the info and details on more holiday events in Dublin GA\, follow Visit Dublin GA on Facebook or sign up for our newsletter!
URL:https://visitdublinga.org/event/brookdale-drive-christmas-light-display/2026-01-01/
LOCATION:Brookdale Drive Christmas Lights Display\, 505 Brookdale Drive\, Dublin\, GA\, 31021\, United States
CATEGORIES:Christmas,Family-friendly,Holiday
ATTACH;FMTTYPE=image/png:https://visitdublinga.org/wp-content/uploads/2025/11/IMG_1975-2-scaled.png
END:VEVENT
END:VCALENDAR