BEGIN:VCALENDAR
VERSION:2.0
PRODID:-//Visit Dublin Georgia - ECPv6.15.20//NONSGML v1.0//EN
CALSCALE:GREGORIAN
METHOD:PUBLISH
X-WR-CALNAME:Visit Dublin Georgia
X-ORIGINAL-URL:https://visitdublinga.org
X-WR-CALDESC:Events for Visit Dublin Georgia
REFRESH-INTERVAL;VALUE=DURATION:PT1H
X-Robots-Tag:noindex
X-PUBLISHED-TTL:PT1H
BEGIN:VTIMEZONE
TZID:America/New_York
BEGIN:DAYLIGHT
TZOFFSETFROM:-0500
TZOFFSETTO:-0400
TZNAME:EDT
DTSTART:20210314T070000
END:DAYLIGHT
BEGIN:STANDARD
TZOFFSETFROM:-0400
TZOFFSETTO:-0500
TZNAME:EST
DTSTART:20211107T060000
END:STANDARD
BEGIN:DAYLIGHT
TZOFFSETFROM:-0500
TZOFFSETTO:-0400
TZNAME:EDT
DTSTART:20220313T070000
END:DAYLIGHT
BEGIN:STANDARD
TZOFFSETFROM:-0400
TZOFFSETTO:-0500
TZNAME:EST
DTSTART:20221106T060000
END:STANDARD
BEGIN:DAYLIGHT
TZOFFSETFROM:-0500
TZOFFSETTO:-0400
TZNAME:EDT
DTSTART:20230312T070000
END:DAYLIGHT
BEGIN:STANDARD
TZOFFSETFROM:-0400
TZOFFSETTO:-0500
TZNAME:EST
DTSTART:20231105T060000
END:STANDARD
BEGIN:DAYLIGHT
TZOFFSETFROM:-0500
TZOFFSETTO:-0400
TZNAME:EDT
DTSTART:20240310T070000
END:DAYLIGHT
BEGIN:STANDARD
TZOFFSETFROM:-0400
TZOFFSETTO:-0500
TZNAME:EST
DTSTART:20241103T060000
END:STANDARD
BEGIN:DAYLIGHT
TZOFFSETFROM:-0500
TZOFFSETTO:-0400
TZNAME:EDT
DTSTART:20250309T070000
END:DAYLIGHT
BEGIN:STANDARD
TZOFFSETFROM:-0400
TZOFFSETTO:-0500
TZNAME:EST
DTSTART:20251102T060000
END:STANDARD
BEGIN:DAYLIGHT
TZOFFSETFROM:-0500
TZOFFSETTO:-0400
TZNAME:EDT
DTSTART:20260308T070000
END:DAYLIGHT
BEGIN:STANDARD
TZOFFSETFROM:-0400
TZOFFSETTO:-0500
TZNAME:EST
DTSTART:20261101T060000
END:STANDARD
END:VTIMEZONE
BEGIN:VEVENT
DTSTART;TZID=America/New_York:20251004T160000
DTEND;TZID=America/New_York:20251004T220000
DTSTAMP:20260424T112839
CREATED:20250715T123019Z
LAST-MODIFIED:20250715T201621Z
UID:10004569-1759593600-1759615200@visitdublinga.org
SUMMARY:Hunting for the Cure Oyster Pig Roast
DESCRIPTION:Fire up your appetite with a pig pickin’ oyster roast at Southern Pines Ag & Expo Center in Dublin GA on Saturday\, October 4th. Gates open at 4 PM for the 8th Annual Oyster Pig Roast\, and food is served starting at 6 PM.   \nShuck Em’ for Smiles\nHunting for the Cure is hosting the 8th Annual Oyster Pig Roast while raising awareness for childhood cancer and raising funds to share smiles with children fighting cancer through the great outdoors. \nBring your whole family\, and make sure you are all hungry! Attendees can sit down and slurp their way into an all-you-can-eat\, mouthwatering oyster and BBQ roast. After you’ve gotten your bellies full and faces greasy\, dance it off with an evening of live music and entertainment by Soul Shine Band! \nTest your luck with a raffle ticket for the gun raffle. And don’t forget to take a part of the slurping good time home with you by placing a bid during the silent auction. While you’re having adult time\, let the kiddos bounce and slide their way into a pig pickin’ oyster roast on the inflatable bounce houses. \nTicket Info\nAdults $45 | Kids $15 \nTicket link coming soon! If you have any questions please reach out via email at info@huntingforthecure.org\, phone at (706) 350-1120 or Private Message Hunting for the Cure on Facebook. \nAbout\nHunting For the Cure is a non-profit organization created in 2011 with the vision of sharing the great outdoors and nature’s majestic grace with children fighting cancer or in remission. It has been said that being in the woods or on the water provides a calmness that comes from within. \nWant to sponsor this event? Click here! \nSouthern Pines Regional Park & Expo Center\nLocated 1.9 miles from I-16 off Exit 51\, Southern Pines Regional Park has fun for the whole family! Visit this beautifully landscaped 120-acre facility\, featuring a water park\, Ag and Expo Center with an arena for animal shows and rodeos\, baseball and softball fields\, soccer fields\, a walking trail\, meeting space and picnic areas.
URL:https://visitdublinga.org/event/oyster-pig-roast/
LOCATION:Southern Pines Ag & Expo Center\, 575 Southern Pines Rd\, Dublin\, GA\, 31021\, United States
CATEGORIES:Family-friendly,Food,Music,Outdoor
ATTACH;FMTTYPE=image/jpeg:https://visitdublinga.org/wp-content/uploads/2023/11/VisitDublinOysterPigRoastOct7-21.jpeg
END:VEVENT
BEGIN:VEVENT
DTSTART;TZID=America/New_York:20220702T190000
DTEND;TZID=America/New_York:20220702T213000
DTSTAMP:20260424T112839
CREATED:20220621T162822Z
LAST-MODIFIED:20231130T203904Z
UID:10004259-1656788400-1656797400@visitdublinga.org
SUMMARY:Emerald City Classic - Ultimate Bullfighting
DESCRIPTION:Don your ten-gallon hats\, cowboy boots\, and bolo ties because Emerald City Classic – Ultimate Bullfighting is coming to the Ag & Expo Building in Southern Pines Regional Park July 1st and 2nd in Dublin GA! Watch as the wildest wranglers in the world duke it out against riled up bovine. \nBeefin’ with the Bull\nHosted by the Dublin-Laurens County Recreation Authority and Ultimate Bullfighters\, this Ultimate Bullfighting showcase brings you 18 brazen buckaroos bravely evading and bewildering bucking bulls bred for battle. Witness the athletes expertly avoid their angry adversaries with acrobatics and fake outs or face devastating wipeouts in the dust! Will these fighters finish high on the hog or will they end up hooked in the dirt? \nUltimate Bullfighting will be held in the Ag & Expo Building at Southern Pines Regional Park on Friday\, July 1st and again on Saturday\, July 2nd. \nAdult tickets for the fight are $20 in advance and $30 at the door. Tickets for kids 6 to 12 years are $10. Children 5 years and under get in FREE! Purchase your tickets HERE. \nONLY CASH WILL BE ACCEPTED AT THE DOOR. \nBlast Off\nStep out of the arena and onto the field for an Independence Day Fireworks bash that will fill you with the good ol’ American spirit on July 2nd! \nUltimate Bullfighters\nEstablished in 2008\, the Ultimate Bullfighters league promotes and contributes to the rising popularity of freestyle bullfighting. With over 100 active athletes representing 25 states and 3 countries\, UBF produces action-packed shows that keep them at the top of the western entertainment market. Interested in taking on this extreme sport yourself? UBF hosts a camp that teaches all aspiring athletes need to know about freestyle bullfighting. \nSouthern Pines Recreational Park\nLocated minutes off I-16 at exit 51\, Southern Pines Regional Park in Dublin GA offers a world full of free outdoor fun for the whole family. Set your fitness goals at Southern Pines! Mark the mile with 4.3 laps at the nature trail or track your trek with 2.9 laps around the pond! Run\, run\, run for fun across the wide open spaces\, or plan your pick-up game on the field. Splash around the water park Memorial Day to Labor Day! \nPhoto Credit: Betta Focus Photography
URL:https://visitdublinga.org/event/ultimate-bullfighting/2022-07-02/
LOCATION:Southern Pines Ag & Expo Center\, 575 Southern Pines Rd\, Dublin\, GA\, 31021\, United States
CATEGORIES:Arts and Culture,Entertainment,Family-friendly,Outdoor,Summer
ATTACH;FMTTYPE=image/png:https://visitdublinga.org/wp-content/uploads/2023/11/Screenshot-2022-04-13-at-15.42.42.png
END:VEVENT
BEGIN:VEVENT
DTSTART;TZID=America/New_York:20220702T190000
DTEND;TZID=America/New_York:20220702T213000
DTSTAMP:20260424T112839
CREATED:20220621T162822Z
LAST-MODIFIED:20220621T162822Z
UID:10007605-1656788400-1656797400@visitdublinga.org
SUMMARY:Emerald City Classic - Ultimate Bullfighting
DESCRIPTION:Don your ten-gallon hats\, cowboy boots\, and bolo ties because Emerald City Classic – Ultimate Bullfighting is coming to the Ag & Expo Building in Southern Pines Regional Park July 1st and 2nd in Dublin GA! Watch as the wildest wranglers in the world duke it out against riled up bovine. \nBeefin’ with the Bull\nHosted by the Dublin-Laurens County Recreation Authority and Ultimate Bullfighters\, this Ultimate Bullfighting showcase brings you 18 brazen buckaroos bravely evading and bewildering bucking bulls bred for battle. Witness the athletes expertly avoid their angry adversaries with acrobatics and fake outs or face devastating wipeouts in the dust! Will these fighters finish high on the hog or will they end up hooked in the dirt? \nUltimate Bullfighting will be held in the Ag & Expo Building at Southern Pines Regional Park on Friday\, July 1st and again on Saturday\, July 2nd. \nAdult tickets for the fight are $20 in advance and $30 at the door. Tickets for kids 6 to 12 years are $10. Children 5 years and under get in FREE! Purchase your tickets HERE. \nONLY CASH WILL BE ACCEPTED AT THE DOOR. \nBlast Off\nStep out of the arena and onto the field for an Independence Day Fireworks bash that will fill you with the good ol’ American spirit on July 2nd! \nUltimate Bullfighters\nEstablished in 2008\, the Ultimate Bullfighters league promotes and contributes to the rising popularity of freestyle bullfighting. With over 100 active athletes representing 25 states and 3 countries\, UBF produces action-packed shows that keep them at the top of the western entertainment market. Interested in taking on this extreme sport yourself? UBF hosts a camp that teaches all aspiring athletes need to know about freestyle bullfighting. \nSouthern Pines Recreational Park\nLocated minutes off I-16 at exit 51\, Southern Pines Regional Park in Dublin GA offers a world full of free outdoor fun for the whole family. Set your fitness goals at Southern Pines! Mark the mile with 4.3 laps at the nature trail or track your trek with 2.9 laps around the pond! Run\, run\, run for fun across the wide open spaces\, or plan your pick-up game on the field. Splash around the water park Memorial Day to Labor Day! \nPhoto Credit: Betta Focus Photography
URL:https://visitdublinga.org/event/ultimate-bullfighting/2022-07-02/
LOCATION:Southern Pines Ag & Expo Center\, 575 Southern Pines Rd\, Dublin\, GA\, 31021\, United States
CATEGORIES:Arts and Culture,Entertainment,Family-friendly,Outdoor,Summer
ATTACH;FMTTYPE=image/png:https://visitdublinga.org/wp-content/uploads/2023/11/Screenshot-2022-04-13-at-15.42.42.png
END:VEVENT
END:VCALENDAR